Workbook

Sheet ส่วนที่ 3
A1: ส่วนที่ 3
A2: การนำแผนพัฒนาท้องถิ่นไปสู่การปฏิบัติ
A3: ๑. ยุทธศาสตร์การพัฒนาและแผนงาน
A4: ที่ | B4: ยุทธศาสตร์ | C4: ด้าน | D4: แผนงาน | E4: หน่วยงานรับผิดชอบหลัก | F4: หน่วยงานสนับสนุน
A5: 1 | B5: การพัฒนาด้านโครงสร้างพื้นฐาน | C5: การเศรษฐกิจ | D5: แผนงานอุตสาหกรรมและการโยธา | E5: กองช่าง | F5: อบต.ในควน
C6: บริการชุมชนและสังคม | D6: แผนงานเคหะและชุมชน | E6: กองช่าง
A7: 2 | B7: การพัฒนาด้านคุณภาพชีวิต | C7: บริการชุมชนและสังคม | D7: แผนงานสังคมสงเคราะห์ | E7: สำนักปลัด
D8: แผนงานการศึกษา | E8: กองการศึกษา
D9: แผนงานศาสนาวัฒนธรรม | E9: กองการศึกษา
D10: แผนงานสร้างความเข้มแข็งของชุมชน | E10: สำนักปลัด
D11: แผนงานสาธารณสุข | E11: สำนักปลัด
C12: การเศรษฐกิจ | D12: แผนงานอุตสาหกรรมและการโยธา | E12: กองช่าง สำนักปลัด
A13: 3 | B13: การจัดระเบียบชุมชนและการรักษาความสงบเรียบร้อย | C13: บริหารงานทั่วไป | D13: แผนงานการรักษาความสงบภายใน | E13: สำนักปลัด
A15: 4 | B15: ด้านการวางแผน การส่งเสริมการลงทุน พาณิชยกรรมและการท่องเที่ยว | C15: การเศรษฐกิจ | D15: แผนงานการพาณิชย์ | E15: สำนักปลัด
A17: 5 | B17: ด้านการบริหารจัดการและการอนุรักษ์ทรัพยากรธรรมชาติและสิ่งแวดล้อม | C17: การเศรษฐกิจ | D17: แผนงานการเกษตร | E17: สำนักปลัด /กองช่าง
C19: บริการชุมชนและสังคม | D19: แผนงานเคหะและชุมชน
A20: 6 | B20: ด้านศิลปะ วัฒนธรรมจารีตประเพณีและภูมิปัญญาท้องถิ่น | C20: บริการชุมชนและสังคม | D20: แผนงานศาสนาวัฒนธรรมและนันทนาการ | E20: กองการศึกษา
A22: 7 | B22: การพัฒนาด้านการบิรหารจัดการ | C22: บริหารงานทั่วไป | D22: แผนงานบริหารงานทั่วไป | E22: สำนักปลัด
D23: แผนงานอุตสาหกรรมและการโยธา | E23: กองช่าง
A24: รวม | B24: 7 ยุทธศาสตร์ | C24: 4 ด้าน | D24: 11 แผนงาน | E24: 4 สำนัก/กอง

Sheet ผ 01 
A1: บัญชีสรุปโครงการพัฒนา
A2: แผนพัฒนาท้องถิ่น (พ.ศ. 2566-2570) เพิ่มเติม ครั้งที่ 2/2568
A3: องค์การบริหารส่วนตำบลในควน
A5: ยุทธศาสตร์ | B5: ปี 2566 | D5: ปี 2567 | F5: ปี 2568 | H5: ปี 2569 | J5: ปี 2570 | L5: รวม 5 ปี
B6: จำนวน | C6: งบประมาณ | D6: จำนวน | E6: งบประมาณ | F6: จำนวน | G6: งบประมาณ | H6: จำนวน | I6: งบประมาณ | J6: จำนวน | K6: งบประมาณ | L6: จำนวน | M6: งบประมาณ
B7: โครงการ | D7: โครงการ | F7: โครงการ | H7: โครงการ | J7: โครงการ | L7: โครงการ
A8: ยุทธศาสตร์ที่ 1 การพัฒนาด้านโครงสร้างพื้นฐาน
A9: กลยุทธ์ที่ 1 การพัฒนาระบบคมนาคมการ พัฒนาระบบไฟฟ้าสาธารณะ และการพัฒนาระบบประปา
A10: แผนงานอุตสาหกรรมและการโยธา | B10: =+'ยท1)'!E21 -> 0 | C10: =+'ยท1)'!E20 -> 0 | D10: =+'ยท1)'!F21 -> 0 | E10: =+'ยท1)'!F20 -> 0 | F10: ='ยท1)'!G21 -> 4 | G10: =+'ยท1)'!G20 -> 1818000 | H10: =+'ยท1)'!H21 -> 0 | I10: =+'ยท1)'!H20 -> 0 | J10: =+'ยท1)'!I21 -> 0 | K10: =+'ยท1)'!I20 -> 0 | L10: =B10+D10+F10+H10+J10 -> 4 | M10: =C10+E10+G10+I10+K10 -> 1818000
A11: รวม | B11: =SUM(B10:B10) -> 0 | C11: =SUM(C10:C10) -> 0 | D11: =SUM(D10:D10) -> 0 | E11: =SUM(E10:E10) -> 0 | F11: =SUM(F10) -> 4 | G11: =SUM(G10:G10) -> 1818000 | H11: =SUM(H10:H10) -> 0 | I11: =SUM(I10:I10) -> 0 | J11: =SUM(J10:J10) -> 0 | K11: =SUM(K10:K10) -> 0 | L11: =SUM(L10:L10) -> 4 | M11: =SUM(M10:M10) -> 1818000
A12: รวมทั้งสิ้น | B12: =B11 -> 0 | C12: =C11 -> 0 | D12: =D11 -> 0 | E12: =E11 -> 0 | F12: =SUM(F10) -> 4 | G12: =SUM(G10) -> 1818000 | H12: =SUM(H10) -> 0 | I12: =SUM(I10) -> 0 | J12: =SUM(J10) -> 0 | K12: =SUM(K10) -> 0 | L12: =SUM(L11) -> 4 | M12: =SUM(M11) -> 1818000

Sheet ผ02.2ยท 5
A1: รายละเอียดโครงการพัฒนา
A2: แผนพัฒนาท้องถิ่น (พ.ศ. 2566-2570) เพิ่มเติม ครั้งที่ 2/2566
A3: โครงการที่เกินศักยภาพขององค์กรปกครองส่วนท้องถิ่นที่ใช้สำหรับการประสานแผนพัฒนาท้องถิ่น
A4: องค์การบริหารส่วนตำบลในควน
B5: ก.ยุทธศาสร์ชาติ 20 ปี ยุทธศาสตร์ที่ 5 ด้านการสร้างการเติบโตบนคุณภาพชีวิตที่เป็นมิตรต่อสิ่งแวดล้อม
B6: ข.แผนพัฒนาเศรษฐกิจและสังคมแห่งชาติ ฉบับที่ 13 หมุดหมายที่ 10 ไทยมีเศรษฐกิจหมุนเวียนและสังคมคาร์บอนต่ำ จิสติกส์ที่สำคัญของภูมิภาค
B7: ค. Sustainable Development Goals : SDGs เป้าหมายที่ 9 ปกป้อง ฟื้นฟู และสนับสนุนการใช้ระบบนิเวศบนบกอย่างยั่งยืน จัดการป่าไม้อย่างยั่งยืนต่อสู้การกลายสภาพเป็นทะเลทราย หยุดการเสื่อมโทรมของที่ดินและฟื้นสภาพดิน และหยุดยั้งการสูญเสียความหลากหลายทางชีวภาพ
B8: ง. ยุทธศาสตร์จังหวัดที่ 4 การบริหารจัดการทรัพยากรธรรมชาติและสิ่งแวดล้อมอย่างเหมาะสมกับชุมชน/พื้นที่และมีความยั่งยืน
B9: จ. ยุทธศาสตร์การพัฒนา อปท.ในเขตจังหวัดตรัง ยุทธศาสตร์ ที่ 4 ยุทธศาสตร์การพัฒนาด้านการอนุรักษ์พลังงานและจัดการทรัพยากรธรรมชาติและสิ่งแวดล้อมอย่างยั่งยืน
B10: ยุทธศาสตร์ที่ 5 การพัฒนาด้านการบริหารจัดการและการอนุรักษ์ทรัพยากรธรรมชาติสิ่งแวดล้อม | K10: ผ 02/2
A11: 5.2 แผนงานอุตสาหกรรมและการโยธา | B11: กลยุทธ์ที่ 5.2 การอนุรักษ์ทรัพยากรธรรมชาติและสิ่งแวดล้อม
B12: (3) แผนงานอุตสาหกรรมและการโยธา
A13: ที่ | B13: โครงการ | C13: วัตถุประสงค์ | D13: เป้าหมาย(ผลผลิตของโครงการ) | E13: งบประมาณและที่มา | J13: ตัวชี้วัด(KPI) | K13: ผลลัพธ์ที่คาดว่าจะได้รับ | L13: หน่วยงานรับผิดชอบ
E14: 2566 | F14: 2567 | G14: 2568 | H14: 2569 | I14: 2570
E15: (บาท) | F15: (บาท) | G15: (บาท) | H15: (บาท) | I15: (บาท)
A16: 1 | B16: โครงการก่อสร้างผนังกั้นตลิ่งพังคลองปะเหลียน ชุมชนร้านใต้ – บ้านห้วยด้วน หมู่ที่ 2 | C16: - เพื่อป้องกันการพังทลายของดินที่เกิดจากการกัดเซาะของกระแสน้ำ - เพื่อการอนุรักษ์ ฟื้นฟู และบริหารจัดการ ทรัพยากรธรรมชาติและสิ่งแวดล้อมอย่างเป็นระบบและยั่งยืน | D16: - ก่อสร้างผนังกั้นตลิ่งพัง คลองปะเหลียน ชุมชนร้านใต้ – บ้านห้วยด้วน ระยะทาง 1,200 เมตร | E16: - | F16: - | G16: 10000000 | H16: - | I16: - | J16: ก่อสร้างผนังกั้นตลิ่งพัง | K16: - สามารถป้องกันการพังทลายของดินที่เกิดจากการกัดเซาะของกระแสน้ำ | L16: กองช่าง (เงินอุดหนุนเฉพาะกิจ)
B19: รวมงบประมาณ | E19: =SUM(#REF!) -> #REF! | F19: =SUM(#REF!) -> #REF! | G19: =SUM(G16:G16) -> 10000000 | H19: =SUM(#REF!) -> #REF! | I19: =SUM(#REF!) -> #REF!
C20: รวมโครงการ | E20: =COUNT(#REF!) -> 0 | F20: =COUNT(F16:F16) -> 0 | G20: =COUNT(G16:G16) -> 1 | H20: =COUNT(#REF!) -> 0 | I20: =COUNT(#REF!) -> 0

Sheet ยท1)
A1: รายละเอียดโครงการพัฒนา
A2: แผนพัฒนาท้องถิ่น (พ.ศ. 2566-2570) เพิ่มเติม ครั้งที่ 2/2568
A3: องค์การบริหารส่วนตำบลในควน
B4: ก.ยุทธศาสร์ชาติ 20 ปี ยุทธศาสตร์ที่ 2 การเพิ่มความสามารถในการแข่งขัน
B5: ข.แผนพัฒนาเศรษฐกิจและสังคมแห่งชาติ ฉบับที่ 13 หมุดหมายที่ 5 ไทยเป็นประตูการค้าการลงทุนและยุทธศาสตร์ทางโลก จิสติกส์ที่สำคัญของภูมิภาค
B6: ค. Sustainable Development Goals : SDGs เป้าหมายที่ 9 สร้างโครงสร้างพื้นฐานที่มีความทนทาน ส่งเสริมการพัฒนาอุตสาหกรรมที่ครอบคลุมและยั่งยืน และส่งเสริมนวัตกรรม
B7: ง. ยุทธศาสตร์จังหวัดตรัง ยุทธศาสตร์ที่ 1 การพัฒนาด้านโครงสร้างพื้นฐานควบคู่การท่องเที่ยวเชิงอนุรักษ์
B8: จ. ยุทธศาสตร์การพัฒนาของ อปท. ในเขตจังหวัดตรัง ยุทธศาสตร์ที่ 1 การพัฒนาด้านโครงสร้างพื้นฐานควบคู่การท่องเที่ยวเชิงอนุรักษ์ | K8: แบบ ผ.02
B9: ยุทธศาสตร์ที่ 1 การพัฒนาด้านโครงสร้างพื้นฐาน | K9: .
B10: 1.1 กลยุทธ์ที่ 1 การพัฒนาระบบคมนาคม การพัฒนาระบบไฟฟ้าสาธารณะ และการพัฒนาระบบประปา
B11: (1) แผนงานอุตสาหกรรมและการโยธา
A12: ที่ | B12: โครงการ | C12: วัตถุประสงค์ | D12: เป้าหมาย(ผลผลิตของโครงการ) | E12: งบประมาณและที่มา | J12: ตัวชี้วัด(KPI) | K12: ผลลัพธ์ที่คาดว่าจะได้รับ | L12: หน่วยงานรับผิดชอบ
E13: 2566 | F13: 2567 | G13: 2568 | H13: 2569 | I13: 2570
E14: (บาท) | F14: (บาท) | G14: (บาท) | H14: (บาท) | I14: (บาท)
A15: 1 | B15: โครงการบุกเบิกถนนลูกรังหรือหินผุสายหนองบัวช่องหาย หมู่ที่ 8 - บ้านหนังก้อง หมู่ที่ 1 | C15: - เพื่อให้ประชาชนได้มีถนนใช้ในการคมนาคมได้สะดวกรวดเร็ว - เพื่อความปลอดภัยในการใช้รถใช้ถนนในการเดินทาง | D15: - บุกเบิกถนนลูกรังหรือหินผุ ขนาดกว้าง 4.00 เมตร ระยะทาง 580.00 เมตร หนา 0.25 เมตร หรือมีพื้นที่ไม่น้อยกว่า 2,320 ตร.ม. ฯลฯ | E15: - | F15: - | G15: 360000 | H15: - | I15: - | J15: ถนนมีมาตรฐานความปลอดภัยและประชาชนได้รับความสะดวกรวดเร็วในการเดินทาง ร้อยละ 70 ขึ้นไป | K15: - ทำให้ประชาชนมีถนนใช้ที่ได้มาตรฐานและการเดินทางสะดวกรวดเร็วปลอดภัยยิ่งขึ้น | L15: กองช่าง
A16: 2 | B16: โครงการบุกเบิกถนนลูกรังหรือหินผุสายสระน้ำหนองไทร - ในสวน หมู่ที่ 9 | C16: - เพื่อให้ประชาชนได้มีถนนใช้ในการคมนาคมได้สะดวกรวดเร็ว - เพื่อความปลอดภัยในการใช้รถใช้ถนนในการเดินทาง | D16: - บุกเบิกถนนลูกรังหรือหินผุ ขนาดกว้าง 4.00 เมตร ระยะทาง 780.00เมตร หนา 0.25 เมตร หรือมีพื้นที่ไม่น้อยกว่า 3,120 ตร.ม. ฯลฯ | E16: - | F16: - | G16: 480000 | H16: - | I16: - | J16: ถนนมีมาตรฐานความปลอดภัยและประชาชนได้รับความสะดวกรวดเร็วในการเดินทาง ร้อยละ 70 ขึ้นไป | K16: - ทำให้ประชาชนมีถนนใช้ที่ได้มาตรฐานและการเดินทางสะดวกรวดเร็วปลอดภัยยิ่งขึ้น | L16: กองช่าง
A17: 3 | B17: โครงการก่อสร้างถนนคอนกรีตเสริมเหล็กสายหนองยนต์ หมู่ที่ 1 - โคกสะบ้า - หนองโพรง หมู่ที่ 9 (ช่วงที่ 1) | C17: - เพื่อให้ประชาชนได้มีถนนใช้ในการคมนาคมได้สะดวกรวดเร็ว - เพื่อความปลอดภัยในการใช้รถใช้ถนนในการเดินทาง | D17: - ก่อสร้างถนนคอนกรีตเสริมเหล็ก ขนาดกว้าง 4.00 เมตร ระยะทาง 200.00 เมตร หนา 0.15 เมตร หรือมีพื้นที่ไม่น้อยกว่า 800 ตร.ม. ฯลฯ | E17: - | F17: - | G17: 498000 | H17: - | I17: - | J17: ถนนมีมาตรฐานความปลอดภัยและประชาชนได้รับความสะดวกรวดเร็วในการเดินทาง ร้อยละ 70 ขึ้นไป | K17: - ทำให้ประชาชนมีถนนใช้ที่ได้มาตรฐานและการเดินทางสะดวกรวดเร็วปลอดภัยยิ่งขึ้น | L17: กองช่าง
A18: 4 | B18: โครงการย้ายหอถังระบบประปาหมู่บ้าน หน่วยสระน้ำหนองไทร หมู่ที่ 4 - ไปติดตั้งสระน้ำหนองโพรง หมู่ที่ 9 | C18: - เพื่อให้ประชาชนมีน้ำใช้ได้อย่างทั่วถึง | D18: - ย้ายหอถังระบบประปาหมู่บ้าน พร้อมวางท่อเมนจ่าย และขยายเขตระบบประปา ฯลฯ | E18: - | F18: - | G18: 480000 | H18: - | I18: - | J18: ประสิทธิภาพ การจ่ายน้ำ | K18: - ประชาชนมีน้ำใช้อุปโภคบริโภคอย่างเพียงพอและทั่วถึง | L18: กองช่าง
A19: 18
A20: 19 | B20: รวมงบประมาณ | E20: =SUM(E15:E18) -> 0 | F20: =SUM(F15:F18) -> 0 | G20: =SUM(G15:G18) -> 1818000 | H20: =SUM(H15:H18) -> 0 | I20: =SUM(I15:I18) -> 0
A21: 20 | C21: รวมโครงการ | E21: =COUNT(#REF!) -> 0 | F21: =COUNT(F15:F18) -> 0 | G21: =COUNT(G15:G18) -> 4 | H21: =COUNT(H15:H18) -> 0 | I21: =COUNT(I15:I18) -> 0
D24: พร้อมวางท่อ มอก. ขนาดเส้นผ่าศูนย์กลาง 0.40 เมตร จำนวน7 เมตร วางท่อ มอก. ขนาดเส้นผ่าศูนย์กลาง 0.80 เมตร จำนวน 8 เมตร และวางท่อ มอก. ขนาดเส้นผ่าศูนย์กลาง 1.00 เมตร จำนวน 8 เมตร
D25: พร้อมวางท่อ มอก. ขนาดเส้นผ่าศูนย์กลาง 0.40 เมตร จำนวน 12 เมตร และวางท่อ มอก.ขนาดเส้นผ่าศูนย์กลาง 0.60 เมตร จำนวน 6 เมตร

Sheet ยท1.2)
A1: รายละเอียดโครงการพัฒนา
A2: แผนพัฒนาท้องถิ่น (พ.ศ. 2566-2570) เพิ่มเติม ครั้งที่ 1/2566
A3: องค์การบริหารส่วนตำบลในควน
B4: ก.ยุทธศาสร์ชาติ 20 ปี ยุทธศาสตร์ที่ 2 การเพิ่มความสามารถในการแข่งขัน
B5: ข.แผนพัฒนาเศรษฐกิจและสังคมแห่งชาติ ฉบับที่ 13 หมุดหมายที่ 5 ไทยเป็นประตูการค้าการลงทุนและยุทธศาสตร์ทางโลก จิสติกส์ที่สำคัญของภูมิภาค
B6: ค. Sustainable Development Goals : SDGs เป้าหมายที่ 9 สร้างโครงสร้างพื้นฐานที่มีความทนทาน ส่งเสริมการพัฒนาอุตสาหกรรมที่ครอบคลุมและยั่งยืน และส่งเสริมนวัตกรรม
B7: ง. ยุทธศาสตร์จังหวัดตรัง ยุทธศาสตร์ที่ 1 การพัฒนาด้านโครงสร้างพื้นฐานควบคู่การท่องเที่ยวเชิงอนุรักษ์
B8: จ. ยุทธศาสตร์การพัฒนาของ อปท. ในเขตจังหวัดตรัง ยุทธศาสตร์ที่ 1 การพัฒนาด้านโครงสร้างพื้นฐานควบคู่การท่องเที่ยวเชิงอนุรักษ์
B9: ยุทธศาสตร์ที่ 1 การพัฒนาด้านโครงสร้างพื้นฐาน | K9: แบบ ผ.02
B10: 1.1 กลยุทธ์ที่ 1 การพัฒนาระบบคมนาคม การพัฒนาระบบไฟฟ้าสาธารณะ และการพัฒนาระบบประปา
B11: (2) แผนงานเคหะและชุมชน
A12: ที่ | B12: โครงการ | C12: วัตถุประสงค์ | D12: เป้าหมาย(ผลผลิตของโครงการ) | E12: งบประมาณและที่มา | J12: ตัวชี้วัด(KPI) | K12: ผลลัพธ์ที่คาดว่าจะได้รับ | L12: หน่วยงานรับผิดชอบ
E13: 2566 | F13: 2567 | G13: 2568 | H13: 2569 | I13: 2570
E14: (บาท) | F14: (บาท) | G14: (บาท) | H14: (บาท) | I14: (บาท)
A15: 1 | B15: โครงการพัฒนาแหล่งน้ำระบบประปา หน่วยบ้านหนานปู หมู่ที่ 2 | C15: - เพื่อกักเก็บน้ำในฤดูแล้ง สำหรับผลิตน้ำประปาหน่วยบ้านหนานปู ฯลฯ | D15: - ก่อสร้างฝายชะลอน้ำโดยวางหินเรียงเป็นผนังกั้นน้ำ ขนาดกว้าง 1.5 - 2 เมตร ยาว 4 -5 เมตร ลึก 3 เมตร และขุดสระน้ำ ขนาดพื้นที่ไม่น้อยกว่า 150 ตร.ม. ฯลฯ | E15: 500000 | F15: - | G15: - | H15: - | I15: - | J15: ระบบประปาหมู่บ้านมีน้ำใช้ได้เพียงพอทั้งปี | K15: - เพื่อแก้ปัญหาการใช้น้ำประปาของประชาชนหมู่ที่ 2 | L15: กองช่าง
A16: 2 | B16: โครงการพัฒนาแหล่งน้ำระบบประปา หน่วยชุมชนโคกยูง หมู่ที่ 5 | C16: - เพื่อกักเก็บน้ำในฤดูแล้ง สำหรับผลิตน้ำประปาหน่วยชุมชนโคกยูง ฯลฯ | D16: - ขุดสระน้ำ ขนาดกว้าง 14 เมตร ยาว 25 เมตร ลึก 3 เมตร | E16: - | F16: 200000 | G16: - | H16: - | I16: - | J16: ระบบประปาหมู่บ้านมีน้ำใช้ได้เพียงพอทั้งปี | K16: - เพื่อแก้ปัญหาการใช้น้ำประปาของประชาชนหมู่ที่ 5 | L16: กองช่าง
A17: 3 | B17: โครงการก่อสร้างคูระบายน้ำ ถนนสายหน้ามัสยิดบ้านหนองขอน หมู่ที่ 9 | C17: - เพื่อการระบายน้ำลดการท่วมขังเมื่อฝนตกหนัก ฯลฯ | D17: - ก่อสร้างคูระบายน้ำคอนกรีตเสริมเหล็ก ขนาดกว้าง 0.60 เมตร ลึกเฉลี่ยไม่น้อยกว่า 0.80 เมตร ระยะทาง 200 เมตร ฯลฯ | E17: - | F17: 600000 | G17: - | H17: - | I17: - | J17: สองข้างถนนมีคูระบายน้ำ ไม่เกิดน้ำท่วมขัง | K17: แก้ปัญหาน้ำท่วมขังบริเวณถนน | L17: กองช่าง
B18: รวมงบประมาณ | E18: =SUM(E15:E17) -> 500000 | F18: =SUM(F15:F17) -> 800000 | G18: =SUM(G15:G17) -> 0 | H18: =SUM(H17:H17) -> 0 | I18: =SUM(I17:I17) -> 0
C19: รวมโครงการ | E19: =COUNT(E15:E17) -> 1 | F19: =COUNT(F15:F17) -> 2 | G19: =COUNT(G15:G17) -> 0 | H19: =COUNT(H17:H17) -> 0 | I19: =COUNT(I17:I17) -> 0

Sheet ผ02.2ยท5.2)
A1: รายละเอียดโครงการพัฒนา
A2: แผนพัฒนาท้องถิ่น (พ.ศ. 2566-2570) เพิ่มเติม ครั้งที่ 1/2566
A3: โครงการที่เกินศักยภาพขององค์กรปกครองส่วนท้องถิ่นที่ใช้สำหรับการประสานแผนพัฒนาท้องถิ่น
A4: องค์การบริหารส่วนตำบลในควน
B5: ก.ยุทธศาสร์ชาติ 20 ปี ยุทธศาสตร์ที่ 5 ด้านการสร้างการเติบโตบนคุณภาพชีวิตที่เป็นมิตรต่อสิ่งแวดล้อม
B6: ข.แผนพัฒนาเศรษฐกิจและสังคมแห่งชาติ ฉบับที่ 13 หมุดหมายที่ 10 ไทยมีเศรษฐกิจหมุนเวียนและสังคมคาร์บอนต่ำ จิสติกส์ที่สำคัญของภูมิภาค
B7: ค. Sustainable Development Goals : SDGs เป้าหมายที่ 9 ปกป้อง ฟื้นฟู และสนับสนุนการใช้ระบบนิเวศบนบกอย่างยั่งยืน จัดการป่าไม้อย่างยั่งยืนต่อสู้การกลายสภาพเป็นทะเลทราย หยุดการเสื่อมโทรมของที่ดินและฟื้นสภาพดิน และหยุดยั้งการสูญเสียความหลากหลายทางชีวภาพ
B8: ง. ยุทธศาสตร์จังหวัดที่ 4 การบริหารจัดการทรัพยากรธรรมชาติและสิ่งแวดล้อมอย่างเหมาะสมกับชุมชน/พื้นที่และมีความยั่งยืน
B9: จ. ยุทธศาสตร์การพัฒนา อปท.ในเขตจังหวัดตรัง ยุทธศาสตร์ ที่ 4 ยุทธศาสตร์การพัฒนาด้านการอนุรักษ์พลังงานและจัดการทรัพยากรธรรมชาติและสิ่งแวดล้อมอย่างยั่งยืน
B10: ยุทธศาสตร์ที่ 5 การพัฒนาด้านการบริหารจัดการและการอนุรักษ์ทรัพยากรธรรมชาติสิ่งแวดล้อม | K10: ผ 02/2
A11: 5.2 แผนงานอุตสาหกรรมและการโยธา | B11: กลยุทธ์ที่ 5.2 การอนุรักษ์ทรัพยากรธรรมชาติและสิ่งแวดล้อม
B12: (2) แผนงานเคหะและชุมชน
A13: ที่ | B13: โครงการ | C13: วัตถุประสงค์ | D13: เป้าหมาย(ผลผลิตของโครงการ) | E13: งบประมาณและที่มา | J13: ตัวชี้วัด(KPI) | K13: ผลลัพธ์ที่คาดว่าจะได้รับ | L13: หน่วยงานรับผิดชอบ
E14: 2566 | F14: 2567 | G14: 2568 | H14: 2569 | I14: 2570
E15: (บาท) | F15: (บาท) | G15: (บาท) | H15: (บาท) | I15: (บาท)
A16: 1 | B16: โครงการสนับสนุนและส่งเสริมเตาเผาขยะไร้ควันในชุมชน | C16: 1.เพื่อให้ชุมชนสามารถกำจัดขยะและลดปัญหามลภาวะในพื้นที่ 2.เพื่อลดค่าใช้จ่ายในการกำจัดขยะ | D16: - โรงเรียนในพื้นที่ตำบลในควน จำนวน 5 แห่ง -วัดในพื้นที่ตำบลในควน จำนวน 5 แห่ง -มัสยิดในพื้นที่ตำบลในควน จำนวน 8 แห่ง -ศูนย์พัฒนาเด็กเล็กในเขตพื้นที่ตำบลในควน จำนวน 3 แห่ง | E16: 96600 | F16: 96600 | G16: 96600 | H16: 96600 | I16: 96600 | J16: 1.ประหยัดค่าใช้จ่ายในการกำจัดขยะ ด้วยการ ใช้เตาเผาไร้ควัน 2. มีพลังงานทนแทนในการจัดการขยะในพื้นที่ | K16: 1.มีการใช้พลังงานทดแทนในพื้นที่มากขึ้น 2.ลดค่าใช้จ่ายด้านพลังงานให้กับประชาชนในพื้นที่ 3.ช่วยให้คุณภาพสิ่งแวดล้อมในชุมชนดีขึ้น | L16: สพจ.ตรัง อบต.ในควน
A17: 2 | B17: โครงการสนับสนุนและส่งเสริมการใช้เตาซุปเปอร์อั้งโล่ในชุมชน | C17: 1.เพื่อส่งเสริมให้มีการใช้พลังงานทดแทนในพื้นที่ 2.เพื่อลดต้นทุนค่าใช้จ่ายด้านพลังงาน | D17: ส่งเสริมการใช้เตาซุปเปอร์อั้งโล่ในชุมชน จำนวน 50 ครัวเรือน | E17: 15000 | F17: 15000 | G17: 15000 | H17: 15000 | I17: 15000 | J17: ลดค่าใช้จ่ายด้านพลังงานในแต่ละครัวเรือน | K17: ประชาชนใช้พลังงานทดแทนในพื้นที่ สมารถลดต้นทุนค่าใช้จ่ายด้านพลังงาน | L17: สพจ.ตรัง อบต.ในควน
A18: 3 | B18: โครงการการจัดการขยะมูลฝอยใน ครัวเรือนและชุมชน | C18: 1.เพื่อสร้างความรู้ความเข้าใจในการจัดการขยะในชุมชน 2.เพื่อจัดการขยะในชุมชนให้เป็นระบบ และเกิดสภาพแวดล้อมที่ดี 3.เพื่อลดค่าใช้จ่ายและสร้างรายได้จากการคัดแยกขยะในชุมชน | D18: จัดโครงการให้ความรู้สร้างความรู้ความเข้าใจในการจัดการขยะจากครัวเรือน | E18: 30000 | F18: 30000 | G18: 30000 | H18: 30000 | I18: 30000 | J18: 1.ประชาชนในพื้นที่มีความรู้ความเข้าใจในการจัดการขยะในชุมชน 2.ลดปัญหามลภาวะและทำให้ชุมชนมีสภาพแวดล้อมที่ดีขึ้น 3.ลดค่าใช้จ่ายด้านการจัดการคัดแยกขยะในชุมชน 4.ประชาชนมีรายได้เพิ่มขึ้นจากการคัดแยกขยะ | K18: อบต.สามารถจัดการขยะในชุมชนให้เป็นระบบ และเกิดสภาพแวดล้อมที่ดี | L18: สพจ.ตรัง อบต.ในควน
A19: 4 | B19: โครงการส่งเสริมระบบผลิตก๊าซชีวภาพจากมูลสัตว์และขยะเปียกในครัวเรือน | C19: 1. เพื่อแก้ปัญหาด้านสิ่งแวดล้อมจากการเลี้ยงสัตว์โดยการนำมูลสัตว์มาทำแก๊สชีวภาพ 2. เป็นสถานที่ศึกษากระบวนการเรียนรู้ร่วมกันด้านพลังงานชุมชน ในพื้นที่ตำบลในควน 3.เพื่อจัดการขยะในครัวเรือน ให้เป็นประโยชน์ ลดรายจ่าย และเกิดสภาพแวดล้อมที่ดี | D19: ระบบก๊าชชีวภาพ แบบถุง PVC Covered lagoonกำลังกาผลิต 10 ลูกบาศก์เมตร | E19: 15000 | F19: 15000 | G19: 15000 | H19: 15000 | I19: 15000 | J19: 1. เพื่อแก้ปัญหาขยะ และมลภาวะทางกลิ่นในพื้นที่ 2. เพื่อลดต้นทุนค่าใช้จ่ายด้านพลังงาน ของครัวเรือน | K19: 1.ลดค่าใช้จ่ายด้านพลังงาน 2.ลดปัญหาเรื่องกลิ่นเหม็น 3.ชุมชนเกิดสภาพแวดล้อมที่ดีขึ้น 4.เกิดรายได้จากปุ๋ยหมักชีวภาพ | L19: สพจ.ตรัง อบต.ในควน
A20: 5 | B20: โครงการพลังงานแสงอาทิตย์ลดต้นทุนการใช้พลังงานไฟฟ้าในระบบประปาหมู่บ้าน | C20: เพื่อลดต้นทุนค่าใช้จ่ายด้านพลังงาน ระบบประปาหมู่บ้าน ใช้ระบบพลังงานแสงอาทิตย์มาใช้กับระบบประปาหมู่บ้าน แบบผสมผสานกับการใช้พลังงานไฟฟ้า เพื่อลดค่าใช้จ่ายในระบบประปาหมู่บ้าน | D20: ติดตั้ง ระบบสูบน้ำพลังงานแสงอาทิตย์สำหรับแหล่งน้ำผิวดิน แผงโซลาเซลล์ไม่น้อยกว่า 3,060 วัตต์ มอเตอร์ประสิทธิภาพสูง 3 แรงม้า หรือ 2.2 kW เหมาะสมกับชนิดปั๊มสูบน้ำ | E20: 450000 | F20: 450000 | G20: 450000 | H20: 450000 | I20: 450000 | J20: 1.ลดค่าใช้จ่ายด้านพลังงานไฟฟ้าของระบบประปาหมู่บ้าน 2.ประชาชนมีคุณภาพชีวิตที่ดีขึ้น 3.สามารถนำพลังงานแสงอาทิตย์มาใช้ให้เกิดประโยชน์ | K20: ระบบประปาหมู่บ้านมีประสิทธิภาพ สามารถผลิตน้ำได้เพียงพอกับจำนวนผู้ใช้น้ำ และสามารถลดการใช้พลังงานไฟฟ้าในแต่ละเดือน | L20: สพจ.ตรัง อบต.ในควน
A21: 6 | B21: โครงการส่งเสริมผลิตภัณฑ์ชุมชนด้วยระบบตู้อบแห้งพลังงานแสงอาทิตย์ | C21: 1.เพื่อส่งเสริมให้มีการใช้พลังงานทดแทนกลุ่มอาชีพในชุมชน 2.เพื่อเพิ่มประสิทธิภาพในกระบวนการผลิตและเพิ่มมูลค่าผลิตภัณฑ์ ของกลุ่มอาชีพวิสาหกิจบ้านในควนและกลุ่มอาชีพทำน้ำพริก | D21: ตู้อบแห้งพลังงานแสงอาทิตย์ ขนาด 2x2 เมตร จำนวน 2 ชุด | E21: 50000 | F21: 50000 | G21: 50000 | H21: 50000 | I21: 50000 | J21: 1.เพิ่มประสิทธิภาพในกระบวนการผลิต ลดระยะเวลาการตากแห้ง 2.ผลิตภัณฑ์ที่ได้สะอาด ถูกสุขอนามัย 3.ช่วยเพิ่มมูลค่าให้กับผลิตภัณฑ์ | K21: ตู้อบแห้งพลังงานแสงอาทิตย์ ช่วยลดต้นทุนการผลิต ลดระยะเวลาการตากแห้ง และมีความสะอาดปลอดภัย | L21: สพจ.ตรัง อบต.ในควน
B22: รวมงบประมาณ | E22: =SUM(E16:E21) -> 656600 | F22: =SUM(F16:F21) -> 656600 | G22: =SUM(G16:G21) -> 656600 | H22: =SUM(H16:H21) -> 656600 | I22: =SUM(I16:I21) -> 656600
C23: รวมโครงการ | E23: =COUNT(E16:E21) -> 6 | F23: =COUNT(F16:F21) -> 6 | G23: =COUNT(G16:G21) -> 6 | H23: =COUNT(H16:H21) -> 6 | I23: =COUNT(I16:I21) -> 6

Sheet ยท2.2สารสุข เพิ่มเติม 2.66
A1: รายละเอียดโครงการพัฒนา
A2: แผนพัฒนาท้องถิ่น (พ.ศ. 2566-2570) เพิ่มเติม ครั้งที่ 2/2566
A3: องค์การบริหารส่วนตำบลในควน
B4: ก.ยุทธศาสร์ชาติ 20 ปี ยุทธศาสตร์ที่ 3 ด้านการพัฒนาและเสริมสร้างศักยภาพทรัพยากรมนุษย์
B5: ข.แผนพัฒนาเศรษฐกิจและสังคมแห่งชาติ ฉบับที่ 13 หมุดหมายที่ 12 ไทยมีกำลังคนสมรรถนะสูง มุ่งเรียนรู้อย่างต่อเนื่อง ตอบโจทย์การพัฒนาแห่งอนาคต
B6: ค. Sustainable Development Goals : SDGs เป้าหมายที่ 3 สร้างหลักประกันว่าคนมีชีวิตที่มีสุขภาพดีและส่งเสริมความเป็นอยู่ที่ดีสำหรับทุกคนในทุกวัย
B7: ง. ยุทธศาสตร์จังหวัดที่ 3 การเสริมสร้างความมั่นคงทางสังคม พัฒนาคุณภาพชีวิตและการเรียนรู้อย่างมีคุณภาพ
B8: จ. ยุทธศาสตร์การพัฒนาของ อปท.ในเขตจังหวัดที่ 2 การพัฒนาด้านคุณภาพชีวิตและส่งเสริมการศึกษาเรียนรู้แบบองค์รวม
B9: ยุทธศาสตร์ที่ 2 การพัฒนาด้านคุณภาพชีวิต | K9: แบบ ผ02
B10: กลยุทธ์ที่ 2.2 การส่งเสริมสาธารณสุขและสวัสดิการสังคม
B11: (3) แผนงานสาธารณสุข
A12: ที่ | B12: โครงการ | C12: วัตถุประสงค์ | D12: เป้าหมาย(ผลผลิตของโครงการ) | E12: งบประมาณและที่มา | J12: ตัวชี้วัด(KPI) | K12: ผลลัพธ์ที่คาดว่าจะได้รับ | L12: หน่วยงานรับผิดชอบ
E13: 2566 | F13: 2567 | G13: 2568 | H13: 2569 | I13: 2570
E14: (บาท) | F14: (บาท) | G14: (บาท) | H14: (บาท) | I14: (บาท)
A15: 1 | B15: โครงการก่อสร้างธนาคารขยะองค์การบริหารส่วนตำบลในควน | C15: เพื่อก่อสร้างธนาคารขยะองค์การบริหารส่วนตำบลในควน | D15: - โดยก่อสร้างธนาคารขยะองค์การบริหารส่วนตำบลในควน | E15: - | F15: 100000 | G15: - | H15: - | I15: - | J15: - พื้นที่ทีใช้ประโยชน์ในการบริหารจัดการธนาคารขยะองค์การบริหารส่วนตำบลในควน | K15: มีอาคารพื้นที่ทำการธนาคารขยะองค์การบริหารส่วนตำบลในควน | L15: สำนักปลัด
B16: รวมงบประมาณ | E16: =SUM(E15:E15) -> 0 | F16: =SUM(F15:F15) -> 100000 | G16: =SUM(G15:G15) -> 0 | H16: =SUM(H15:H15) -> 0 | I16: =SUM(I15:I15) -> 0
C17: รวมโครงการ | E17: =COUNT(E14:E15) -> 0 | F17: =COUNT(F14:F15) -> 1 | G17: =COUNT(G14:G15) -> 0 | H17: =COUNT(H14:H15) -> 0 | I17: =COUNT(I14:I15) -> 0

Sheet ยท2.5 สคขข. เพิ่มเติม 2.66
A1: รายละเอียดโครงการพัฒนา
A2: แผนพัฒนาท้องถิ่น (พ.ศ. 2566-2570) เพิ่มเติม ครั้งที่ 2/2567
A3: องค์การบริหารส่วนตำบลในควน
B4: ก.ยุทธศาสร์ชาติ 20 ปี ยุทธศาสตร์ที่ 3 ด้านการพัฒนาและเสริมสร้างศักยภาพทรัพยากรมนุษย์
B5: ข.แผนพัฒนาเศรษฐกิจและสังคมแห่งชาติ ฉบับที่ 13 หมุดหมายที่ 12 ไทยมีกำลังคนสมรรถนะสูง มุ่งเรียนรู้อย่างต่อเนื่อง ตอบโจทย์การพัฒนาแห่งอนาคต จิสติกส์ที่สำคัญของภูมิภาค
B6: ค. Sustainable Development Goals : SDGs เป้าหมายที่ 3 สร้างหลักประกันว่าคนมีชีวิตที่มีสุขภาพดีและส่งเสริมความเป็นอยู่ที่ดีสำหรับทุกคนในทุกวัย
B7: ง. ยุทธศาสตร์จังหวัดตรัง ยุทธศาสตร์ที่ 3 การเสริมสร้างความมั่นคงทางสังคม พัฒนาคุณภาพชีวิตและการเรียนรู้อย่างมีคุณภาพ
B8: จ. ยุทธศาสตร์การพัฒนาของ อปท. ในเขตจังหวัดตรัง ยุทธศาสตร์ที่ 2 การพัฒนาด้านคุณภาพชีวิตและส่งเสริมการศึกษาเรียนรู้แบบองค์รวม
B9: ยุทธศาสตร์ที่ 2 การพัฒนาด้านคุณภาพชีวิต | K9: แบบ ผ02
B10: กลยุทธ์ 2.2 ส่งเสริมการสาธารณสุข สวัสดิการสังคม
B11: (4) แผนงานสังคมสงเคราะห์
A12: ที่ | B12: โครงการ | C12: วัตถุประสงค์ | D12: เป้าหมาย(ผลผลิตของโครงการ) | E12: งบประมาณและที่มา | J12: ตัวชี้วัด(KPI) | K12: ผลลัพธ์ที่คาดว่าจะได้รับ | L12: หน่วยงานรับผิดชอบหลัก
E13: 2566 | F13: 2567 | G13: 2568 | H13: 2569 | I13: 2570
E14: (บาท) | F14: (บาท) | G14: (บาท) | H14: (บาท) | I14: (บาท)
A15: 1 | B15: โครงการส่งเสริมการจ้างงานคนพิการเชิงสังคม | C15: - เพื่อพัฒนาคุณภาพชีวิตคนพิการตำบลในควน | D15: - จ้างงานคนพิการ จำนวน 2 คน ฯ | E15: - | F15: - | G15: 200000 | H15: 200000 | I15: 200000 | J15: คนพิการ จำนวน 2 คน | K15: คนพิการในพื้นที่มีงานทำ สามารถทำให้คุณภาพชีวิตดีขึ้น | L15: สำนักปลัด
B16: รวมงบประมาณ | E16: =SUM(E15:E15) -> 0 | F16: =SUM(F15:F15) -> 0 | G16: =SUM(G15:G15) -> 200000 | H16: =SUM(H15:H15) -> 200000 | I16: =SUM(I15:I15) -> 200000
C17: รวมโครงการ | E17: =COUNT(E15:E15) -> 0 | F17: =COUNT(F15:F15) -> 0 | G17: =COUNT(G15:G15) -> 1 | H17: =COUNT(H15:H15) -> 1 | I17: =COUNT(I15:I15) -> 1

Sheet ผ 01. 2
A2: บัญชีสรุปโครงการพัฒนา
A3: แผนพัฒนาท้องถิ่น (พ.ศ. 2566-2570) เพิ่มเติม ครั้งที่ 2/2568
A4: โครงการที่เกินศักยภาพขององค์กรปกครองส่วนท้องถิ่นที่ใช้สำหรับการประสานแผนพัฒนาท้องถิ่น
A5: องค์การบริหารส่วนตำบลในควน
A7: ยุทธศาสตร์ | B7: ปี 2566 | D7: ปี 2567 | F7: ปี 2568 | H7: ปี 2569 | J7: ปี 2570 | L7: รวม 5 ปี
B8: จำนวน | C8: งบประมาณ | D8: จำนวน | E8: งบประมาณ | F8: จำนวน | G8: งบประมาณ | H8: จำนวน | I8: งบประมาณ | J8: จำนวน | K8: งบประมาณ | L8: จำนวน | M8: งบประมาณ
B9: โครงการ | D9: โครงการ | F9: โครงการ | H9: โครงการ | J9: โครงการ | L9: โครงการ
A10: ยุทธศาสตร์ที่ 1 การพัฒนาด้านโครงสร้างพื้นฐาน
A11: กลยุทธ์ที่ 1 การพัฒนาระบบคมนาคมการ พัฒนาระบบไฟฟ้าสาธารณะ และการพัฒนาระบบประปา
A12: 1.1 แผนงานอุตสาหกรรมและการโยธา | B12: =+'ยท1)'!E21 -> 0 | C12: =+'ยท1)'!E20 -> 0 | D12: =+'ผ02.2ยท1'!F22 -> 0 | E12: ='ผ02.2ยท1'!F21 -> 0 | F12: ='ผ02.2ยท1'!G22 -> 5 | G12: ='ผ02.2ยท1'!G21 -> 32390000 | H12: ='ผ02.2ยท1'!H22 -> 0 | I12: ='ผ02.2ยท1'!H21 -> 0 | J12: =+'ยท1)'!I21 -> 0 | K12: ='ผ02.2ยท1'!I21 -> 0 | L12: =B12+D12+F12+H12+J12 -> 5 | M12: =C12+E12+G12+I12+K12 -> 32390000
A13: รวม | B13: =SUM(B12:B12) -> 0 | C13: =SUM(C12:C12) -> 0 | D13: =SUM(D12:D12) -> 0 | E13: =SUM(E12:E12) -> 0 | F13: =SUM(F12:F12) -> 5 | G13: =SUM(G12:G12) -> 32390000 | H13: =SUM(H12:H12) -> 0 | I13: =SUM(I12:I12) -> 0 | ... M13: =SUM(M12:M12) -> 32390000

Sheet ผ02.2ยท1
A1: รายละเอียดโครงการพัฒนา
A2: แผนพัฒนาท้องถิ่น (พ.ศ. 2566-2570) เพิ่มเติม ครั้งที่ 2/2568
A3: โครงการที่เกินศักยภาพขององค์กรปกครองส่วนท้องถิ่นที่ใช้สำหรับการประสานแผนพัฒนาท้องถิ่น
A4: องค์การบริหารส่วนตำบลในควน
B5: ก.ยุทธศาสร์ชาติ 20 ปี ยุทธศาสตร์ที่ 2 การเพิ่มความสามารถในการแข่งขัน
B6: ข.แผนพัฒนาเศรษฐกิจและสังคมแห่งชาติ ฉบับที่ 13 หมุดหมายที่ 5 ไทยเป็นประตูการค้าการลงทุนและยุทธศาสตร์ทางโลก จิสติกส์ที่สำคัญของภูมิภาค
B7: ค. Sustainable Development Goals : SDGs เป้าหมายที่ 9 สร้างโครงสร้างพื้นฐานที่มีความทนทาน ส่งเสริมการพัฒนาอุตสาหกรรมที่ครอบคลุมและยั่งยืน และส่งเสริมนวัตกรรม
B8: ง. ยุทธศาสตร์จังหวัดตรัง ยุทธศาสตร์ที่ 1 การพัฒนาด้านโครงสร้างพื้นฐานควบคู่การท่องเที่ยวเชิงอนุรักษ์
B9: จ. ยุทธศาสตร์การพัฒนาของ อปท. ในเขตจังหวัดตรัง ยุทธศาสตร์ที่ 1 การพัฒนาด้านโครงสร้างพื้นฐานควบคู่การท่องเที่ยวเชิงอนุรักษ์ | K9: แบบ ผ.02/2
B10: ยุทธศาสตร์ที่ 1 การพัฒนาด้านโครงสร้างพื้นฐาน | K10: .
A11: 5.2 แผนงานอุตสาหกรรมและการโยธา | B11: 1.1 กลยุทธ์ที่ 1 การพัฒนาระบบคมนาคม การพัฒนาระบบไฟฟ้าสาธารณะ และการพัฒนาระบบประปา
B12: (1) แผนงานอุตสาหกรรมและการโยธา
A13: ที่ | B13: โครงการ | C13: วัตถุประสงค์ | D13: เป้าหมาย(ผลผลิตของโครงการ) | E13: งบประมาณและที่มา | J13: ตัวชี้วัด(KPI) | K13: ผลลัพธ์ที่คาดว่าจะได้รับ | L13: หน่วยงานรับผิดชอบ
E14: 2566 | F14: 2567 | G14: 2568 | H14: 2569 | I14: 2570
E15: (บาท) | F15: (บาท) | G15: (บาท) | H15: (บาท) | I15: (บาท)
A16: 1 | B16: โครงการจัดหาพร้อมติดตั้งชุดเสาไฟถนนโคมไฟแอลอีดีพลังงานแสงอาทิตย์แบบประกอบในชุดเดียวกัน (ถนนสายบ้านหนังก้อง - บ้านหนองแห้ง) หมู่ที่ 1 | C16: - เพื่อให้ประชาชนมีไฟฟ้าส่องสว่างใช้อย่างทั่วถึงและมีความปลอดภัยในชีวิตและทรัพย์สินเพิ่มมากขึ้น - เพื่อเป็นการส่งเสริมการท่องเที่ยวน้ำตกไพรสวรรค์ น้ำตกสายรุ้ง น้ำตกวังหินลาด ฯลฯ | D16: - ติดตั้งชุดเสาไฟถนนโคมไฟแอลอีดี พลังงานแสงอาทิตย์ เสาสูง 8 เมตร จำนวน 69 ต้น ฯลฯ | E16: - | F16: - | G16: 4500000 | H16: - | I16: - | J16: ถนนในเขตอบต. ในควนมีไฟฟ้าส่องสว่างเพิ่มขึ้น ประชาชนได้รับความสะดวกและความปลอดภัยในการสัญจร | K16: - ประชาชนได้มีไฟฟ้าส่องสว่างอย่างทั่วถึง | L16: กองช่าง (อุดหนุนเฉพาะกิจ)
A17: 2 | B17: โครงการจัดหาพร้อมติดตั้งชุดเสาไฟถนนโคมไฟแอลอีดีพลังงานแสงอาทิตย์แบบประกอบในชุดเดียวกัน (ถนนสายบ้านโพรงจระเข้ - บ้านหนองขอน) หมู่ที่ 5,9 | C17: - เพื่อให้ประชาชนมีไฟฟ้าส่องสว่างใช้อย่างทั่วถึงและมีความปลอดภัยในชีวิตและทรัพย์สินเพิ่มมากขึ้น - เพื่อเป็นการส่งเสริมการท่องเที่ยวน้ำตกไพรสวรรค์ น้ำตกสายรุ้ง น้ำตกวังหินลาด ฯลฯ | D17: - ติดตั้งชุดเสาไฟถนนโคมไฟแอลอีดี พลังงานแสงอาทิตย์ เสาสูง 8 เมตร จำนวน 152 ต้น ฯลฯ | E17: - | F17: - | G17: 9800000 | H17: - | I17: - | J17: ถนนในเขตอบต. ในควนมีไฟฟ้าส่องสว่างเพิ่มขึ้น ประชาชนได้รับความสะดวกและความปลอดภัยในการสัญจร | K17: - ประชาชนได้มีไฟฟ้าส่องสว่างอย่างทั่วถึง | L17: กองช่าง (อุดหนุนเฉพาะกิจ)
A18: 3 | B18: โครงการจัดหาพร้อมติดตั้งชุดเสาไฟถนนโคมไฟแอลอีดีพลังงานแสงอาทิตย์แบบประกอบในชุดเดียวกัน (ถนนสายบ้านโพรงจระเข้ - บ้านท่าขนุนและถนนสายบ้านท่าขนุน - บ้านห้วยสอ) หมู่ที่ 5 | C18: - เพื่อให้ประชาชนมีไฟฟ้าส่องสว่างใช้อย่างทั่วถึงและมีความปลอดภัยในชีวิตและทรัพย์สินเพิ่มมากขึ้น - เพื่อเป็นการส่งเสริมการท่องเที่ยวน้ำตกไพรสวรรค์ น้ำตกสายรุ้ง น้ำตกวังหินลาด ฯลฯ | D18: - ติดตั้งชุดเสาไฟถนนโคมไฟแอลอีดี พลังงานแสงอาทิตย์ เสาสูง 8 เมตร จำนวน 92 ต้น ฯลฯ | E18: - | F18: - | G18: 5900000 | H18: - | I18: - | J18: ถนนในเขตอบต. ในควนมีไฟฟ้าส่องสว่างเพิ่มขึ้น ประชาชนได้รับความสะดวกและความปลอดภัยในการสัญจร | K18: - ประชาชนได้มีไฟฟ้าส่องสว่างอย่างทั่วถึง | L18: กองช่าง (อุดหนุนเฉพาะกิจ)
A19: 4 | B19: โครงการจัดหาพร้อมติดตั้งชุดเสาไฟถนนโคมไฟแอลอีดีพลังงานแสงอาทิตย์แบบประกอบในชุดเดียวกัน (ถนนสายหนองแห้ง - ห้วยลึก - ห้วยจันทร์หอม) หมู่ที่ 1-2 | C19: - เพื่อให้ประชาชนมีไฟฟ้าส่องสว่างใช้อย่างทั่วถึงและมีความปลอดภัยในชีวิตและทรัพย์สินเพิ่มมากขึ้น - เพื่อเป็นการส่งเสริมการท่องเที่ยวน้ำตกลำปลอก ฯลฯ | D19: - ติดตั้งชุดเสาไฟถนนโคมไฟแอลอีดี พลังงานแสงอาทิตย์ เสาสูง 8 เมตร จำนวน 156 ต้น ฯลฯ | E19: - | F19: - | G19: 9990000 | H19: - | I19: - | J19: ถนนในเขตอบต. ในควนมีไฟฟ้าส่องสว่างเพิ่มขึ้น ประชาชนได้รับความสะดวกและความปลอดภัยในการสัญจร | K19: - ประชาชนได้มีไฟฟ้าส่องสว่างอย่างทั่วถึง | L19: กองช่าง (อุดหนุนเฉพาะกิจ)
A20: 5 | B20: โครงการจัดหาพร้อมติดตั้งชุดเสาไฟถนน โคมไฟแอลอีดีพลังงานแสงอาทิตย์แบบประกอบในชุดเดียวกัน (ถนนสายรอบสระน้ำหนองไทร) หมู่ที่ 9 | C20: - เพื่อให้ประชาชนมีไฟฟ้าส่องสว่างใช้อย่างทั่วถึงและมีความปลอดภัยในชีวิตและทรัพย์สินเพิ่มมากขึ้น - เพื่อเป็นการพัฒนาแหล่งท่องเที่ยวและเป็นที่ออกกำลังกายในชุมชน ฯลฯ | D20: - ติดตั้งชุดเสาไฟถนนโคมไฟแอลอีดี พลังงานแสงอาทิตย์ เสาสูง 8 เมตร จำนวน 34 ต้น ฯลฯ | E20: - | F20: - | G20: 2200000 | H20: - | I20: - | J20: ถนนในเขตอบต. ในควนมีไฟฟ้าส่องสว่างเพิ่มขึ้น ประชาชนได้รับความสะดวกและความปลอดภัยในการสัญจร | K20: - ประชาชนได้มีไฟฟ้าส่องสว่างอย่างทั่วถึง | L20: กองช่าง (อุดหนุนเฉพาะกิจ)
B21: รวมงบประมาณ | E21: =SUM(E16:E20) -> 0 | F21: =SUM(F16:F20) -> 0 | G21: =SUM(G16:G20) -> 32390000 | H21: =SUM(H16:H20) -> 0 | I21: =SUM(I16:I20) -> 0
C22: รวมโครงการ | E22: =COUNT(#REF!) -> 0 | F22: =COUNT(F16:F20) -> 0 | G22: =COUNT(G16:G20) -> 5 | H22: =COUNT(H16:H20) -> 0 | I22: =COUNT(#REF!) -> 0

Sheet ยท2.7 เกษตรเพิ่ม 1.66
A1: รายละเอียดโครงการพัฒนา
A2: แผนพัฒนาท้องถิ่น (พ.ศ. 2566-2570) เพิ่มเติม ครั้งที่ 1/2566
A3: องค์การบริหารส่วนตำบลในควน
B4: ก.ยุทธศาสร์ชาติ 20 ปี ยุทธศาสตร์ที่ 3 ด้านการพัฒนาและเสริมสร้างศักยภาพทรัพยากรมนุษย์
B5: ข.แผนพัฒนาเศรษฐกิจและสังคมแห่งชาติ ฉบับที่ 13 หมุดหมายที่ 12 ไทยมีกำลังคนสมรรถนะสูง มุ่งเรียนรู้อย่างต่อเนื่อง ตอบโจทย์การพัฒนาแห่งอนาคต จิสติกส์ที่สำคัญของภูมิภาค
B6: ค. Sustainable Development Goals : SDGs เป้าหมายที่ 3 สร้างหลักประกันว่าคนมีชีวิตที่มีสุขภาพดีและส่งเสริมความเป็นอยู่ที่ดีสำหรับทุกคนในทุกวัย
B7: ง. ยุทธศาสตร์จังหวัดตรัง ยุทธศาสตร์ที่ 3 การเสริมสร้างความมั่นคงทางสังคม พัฒนาคุณภาพชีวิตและการเรียนรู้อย่างมีคุณภาพ
B8: จ. ยุทธศาสตร์การพัฒนาของ อปท. ในเขตจังหวัดตรัง ยุทธศาสตร์ที่ 2 การพัฒนาด้านคุณภาพชีวิตและส่งเสริมการศึกษาเรียนรู้แบบองค์รวม
B9: ยุทธศาสตร์ที่ 2 การพัฒนาด้านคุณภาพชีวิต | K9: แบบ ผ02
B10: กลยุทธ์ 2.3 ส่งเสริมคุณภาพชีวิตและการแก้ไขปัญหาสังคม
B11: (7) แผนงานเกษตร
A12: ที่ | B12: โครงการ | C12: วัตถุประสงค์ | D12: เป้าหมาย(ผลผลิตของโครงการ) | E12: งบประมาณและที่มา | J12: ตัวชี้วัด(KPI) | K12: ผลลัพธ์ที่คาดว่าจะได้รับ | L12: หน่วยงานรับผิดชอบหลัก
E13: 2566 | F13: 2567 | G13: 2568 | H13: 2569 | I13: 2570
E14: (บาท) | F14: (บาท) | G14: (บาท) | H14: (บาท) | I14: (บาท)
A15: 1 | B15: โครงการน้อมนำแนวพระราชดำริของสมเด็จพระกนิษฐาธิราชเจ้า กรมสมเด็จพระเทพรัตนราชสุดาฯสยามบรมราชกุมารีสู่ปฎิบัติการปลูกผักสวนครัว เพื่อความมั่นคงทางอาหาร | C15: - เพื่อสร้างพลังความต่อเนื่องในการสร้างความมั่นคงทางอาหารอย่างยั่งยืน - เพื่อลดรายจ่าย สร้างรายได้ระยะสั้น ทั้งในระดับครัวเรือนและระดับกลุ่มอาชีพ | D15: - แกนนำแต่ละหมู่บ้าน - ทุกครัวเรือนในพื้นที่ตำบลในควน | E15: - | F15: 30000 | G15: 30000 | H15: 30000 | I15: 30000 | J15: จำนวนผู้เข้าร่วมโครงการ | K15: - สร้างพลังความต่อเนื่องในการสร้างความมั่นคงทางอาหารอย่างยั่งยืน - ลดรายจ่าย สร้างรายได้ระยะสั้น ทั้งในระดับครัวเรือนและระดับกลุ่มอาชีพ | L15: สำนักปลัด
A16: 2 | B16: โครงการส่งเสริมอาชีพกลุ่มปลูกผัก หมู่ที่ 6 | C16: - เพื่อส่งเสริมให้ประชาชนหันมาปลูกผักกินเอง และสร้างอาชีพเสริมเป็นรายได้ให้กับครอบครัว | D16: - กลุ่มปลูกผัก ม.6 จำนวน 20 ครัวเรือน | E16: - | F16: 20000 | G16: 20000 | H16: 20000 | I16: 20000 | J16: จำนวนผู้เข้าร่วมโครงการ | K16: - ประชาชนหันมาปลูกผักกินเอง และสร้างอาชีพเสริมเป็นรายได้ให้กับครอบครัว | L16: สำนักปลัด
A17: 3 | B17: โครงการส่งเสริมปลูกต้นไม้สองข้างทางและที่สาธารณะประโยชน์ | C17: - เพื่อปลูกจิตสำนึกในการอนุรักษ์สิ่งแวดล้อมและทรัพยากรธรรมชาติของชุมชน | D17: - สองข้างทางและที่สาธารณประโยชน์ | E17: - | F17: 20000 | G17: 20000 | H17: 20000 | I17: 20000 | J17: จำนวนผู้เข้าร่วมโครงการ | K17: - ประชาชนมีจิตสำนึกในการอนุรักษ์สิ่งแวดล้อมและทรัพยากรธรรมชาติ | L17: สำนักปลัด
B18: รวมงบประมาณ | E18: =SUM(E15:E17) -> 0 | F18: =SUM(F15:F17) -> 70000 | G18: =SUM(G15:G17) -> 70000 | H18: =SUM(H15:H17) -> 70000 | I18: =SUM(I15:I17) -> 70000
C19: รวมโครงการ | E19: =COUNT(#REF!) -> 0 | F19: =COUNT(F15:F17) -> 3 | G19: =COUNT(G15:G17) -> 3 | H19: =COUNT(H15:H17) -> 3 | I19: =COUNT(I15:I17) -> 3

Sheet ยุทธ 7
A1: รายละเอียดโครงการพัฒนา
A2: แผนพัฒนาท้องถิ่น (พ.ศ. 2566-2570) แก้ไข ครั้งที่ 1/2566
A3: องค์การบริหารส่วนตำบลในควน
B4: ก.ยุทธศาสร์ชาติ 20 ปี ยุทธศาสตร์ที่ 6 ด้านการปรับสมดุลและพัฒนาระบบการบริหารจัดการภาครัฐ
B5: ข.แผนพัฒนาเศรษฐกิจและสังคมแห่งชาติ ฉบับที่ 13 หมุดหมายที่ 13 ไทยมีภาครัฐที่ทันสมัยมีประสิทธิภาพและตอบโจทย์ประชาชน จิสติกส์ที่สำคัญของภูมิภาค
B6: ค.Sustainable Development Goals : SDGs เป้าหมายที่ 16 ส่งเสริมสังคมที่สงบสุขและครอบคลุมเพื่อการพัฒนาที่ยั่งยืน ให้ทุกคนเข้าถึงความยุติธรรม และสร้างสถาบันที่มีประสิทธิภาพ รับผิดชอบ และครอบคลุมในทุกระดับ
B7: จ. ยุทธศาสตร์จังหวัดที่ 3 เสริมสร้างความมั่นคงทางสังคม พัฒนาคุณภาพชีวิตและการศึกษาเรียนรู้อย่าง มีคุณภาพ
B8: ง. ยุทธศาสตร์การพัฒนาของ อปท.ในเขตจังหวัดที่ 7 การพัฒนาด้านการเมือง การบริหารและการพัฒนาบุคลากรของท้องถิ่น
B9: ยุทธศาสตร์ที่ 7 การพัฒนาด้านการบริหารจัดการ
B10: กลยุทธ์ที่ 7.1 การวางแผนการพัฒนาองค์กรและการบริหารจัดการที่ดี
B11: (2) แผนงานอุตสาหกรรมและการโยธา
A12: ที่ | B12: โครงการ | C12: วัตถุประสงค์ | D12: เป้าหมาย(ผลผลิตของโครงการ) | E12: งบประมาณและที่มา | J12: ตัวชี้วัด(KPI) | K12: ผลลัพธ์ที่คาดว่าจะได้รับ | L12: หน่วยงานรับผิดชอบหลัก
E13: 2566 | F13: 2567 | G13: 2568 | H13: 2569 | I13: 2570
E14: (บาท) | F14: (บาท) | G14: (บาท) | H14: (บาท) | I14: (บาท)
A15: 1 | B15: โครงการก่อสร้างอาคารที่จอดรถ | C15: เพื่อให้มีสถานที่จอดรถที่เพียงพอและเป็นระเบียบ | D15: ขนาดกว้าง 7.00 เมตร ยาว 12.00 เมตร ฯลฯ | E15: - | F15: 350000 | G15: - | H15: - | I15: - | J15: มีสถานที่จอดรถเพิ่มขึ้น | K15: - มีสถานที่จอดรถที่เพียงพอและเป็นระเบียบเรียบร้อย | L15: สำนักปลัด
A16: 2 | B16: โครงการปรับภูมิทัศน์สระน้ำหนองยนต์ที่ทำการองค์การบริหารส่วนตำบลในควน | C16: - เพื่อปรับภูมิทัศน์สระน้ำหนองยนต์ที่ทำการองค์การบริหารส่วนตำบลในควน | D16: - โดยทำการวางท่อระบายน้ำขนาด Ø 1 เมตร จำนวน 420 เมตร พร้อมบ่อพักน้ำ และถมดินปรับพื้นที่ ขนาดกว้าง 3 - 4 เมตร ฯลฯ | E16: - | F16: 495000 | G16: - | H16: - | I16: - | J16: สภาพภูมิทัศน์บริเวณสระน้ำหนองยนต์ที่ทำการองค์การบริหารส่วนตำบลในควนที่ขึ้น | K16: สภาพภูมิทัศน์ที่ทำการ อบต.ในควน มีความสะอาด สวยงาม และน่ามอง | L16: สำนักปลัด
A17: 3 | B17: โครงการก่อสร้างประตูรั้วฝั่งซ้ายที่ทำการองค์การบริหารส่วนตำบลในควน | C17: - เพื่อความปลอดภัยในที่ราชการ | D17: - ก่อสร้างประตูรั้วฝั้งซ้าย ขนาดกว้าง 6 เมตร สูง 1.2 -1.5 เมตร ฯลฯ | E17: - | F17: 120000 | G17: - | H17: - | I17: - | J17: ที่ทำการองค์การบริหารส่วนตำบลในควนมีความปลอดภัย | K17: - มีความเป็นระเบียบเรียบร้อยในการมาติดต่อราชการ | L17: สำนักปลัด
A18: 4 | B18: โครงการอบรมคุณธรรม จริยธรรม บุคลากรในสังกัดองค์การบริหารส่วนตำบลในควน | C18: - เพื่อเสริมสร้างความรู้ ความเข้าใจในหลักคุณธรรม จริยธรรม ให้กับ คณะผู้บริหาร สมาชิกสภาฯ พนักงานส่วนตำบล พนักงานครู ลูกจ้างประจำ และพนักงานจ้าง องค์การบริหารส่วนตำบลในควน | D18: - คณะผู้บริหาร สมาชิกสภาฯ พนักงานส่วนตำบล พนักงานครู ลูกจ้างประจำ และพนักงานจ้าง องค์การบริหารส่วนตำบลในควน | E18: - | F18: 50000 | G18: 50000 | H18: 50000 | I18: 50000 | J18: บุคลากรมีความรู้ ความเข้าใจ ในบริบทคุณธรรม จริยธรรม | K18: - เพิ่มความรู้ ความเข้าใจในหลักคุณธรรม จริยธรรม ให้กับ คณะผู้บริหาร สมาชิกสภาฯ พนักงานส่วนตำบล พนักงานครู ลูกจ้างประจำ | L18: สำนักปลัด
B19: รวมงบประมาณ | E19: =SUM(E15:E15) -> 0 | F19: =SUM(F15:F18) -> 1015000 | G19: =SUM(G15:G15) -> 0 | H19: =SUM(H15:H15) -> 0 | I19: =SUM(I15:I15) -> 0
C20: รวมโครงการ | E20: =COUNT(#REF!) -> 0 | F20: =COUNT(F15:F18) -> 4 | G20: =COUNT(#REF!) -> 0 | H20: =COUNT(#REF!) -> 0 | I20: =COUNT(#REF!) -> 0

Sheet ยท2.2ศึกษา)
A1: รายละเอียดโครงการพัฒนา
A2: แผนพัฒนาท้องถิ่น (พ.ศ. 2566-2570) เพิ่มเติม ครั้งที่ 2/2567
A3: โครงการที่เกินศักยภาพขององค์กรปกครองส่วนท้องถิ่นที่ใช้สำหรับการประสานแผนพัฒนาท้องถิ่น
A4: องค์การบริหารส่วนตำบลในควน
B5: ก.ยุทธศาสร์ชาติ 20 ปี ยุทธศาสตร์ที่ 3 ด้านการพัฒนาและเสริมสร้างศักยภาพทรัพยากรมนุษย์
B6: ข.แผนพัฒนาเศรษฐกิจและสังคมแห่งชาติ ฉบับที่ 13 หมุดหมายที่ 12 ไทยมีกำลังคนสมรรถนะสูง มุ่งเรียนรู้อย่างต่อเนื่อง ตอบโจทย์การพัฒนาแห่งอนาคต
B7: ค. Sustainable Development Goals : SDGs เป้าหมายที่ 3 สร้างหลักประกันว่าคนมีชีวิตที่มีสุขภาพดีและส่งเสริมความเป็นอยู่ที่ดีสำหรับทุกคนในทุกวัย
B8: ง. ยุทธศาสตร์จังหวัดที่ 3 การเสริมสร้างความมั่นคงทางสังคม พัฒนาคุณภาพชีวิตและการเรียนรู้อย่างมีคุณภาพ
B9: จ. ยุทธศาสตร์การพัฒนาของ อปท.ในเขตจังหวัดที่ 2 การพัฒนาด้านคุณภาพชีวิตและส่งเสริมการศึกษาเรียนรู้แบบองค์รวม
B10: ยุทธศาสตร์ที่ 2 การพัฒนาด้านคุณภาพชีวิต | K10: แบบ ผ 02/2
B11: กลยุทธ์ที่ 2.1 ส่งเสริมการศึกษาและนันทนาการ
B12: (1) แผนงานการศึกษา
A13: ที่ | B13: โครงการ | C13: วัตถุประสงค์ | D13: เป้าหมาย(ผลผลิตของโครงการ) | E13: งบประมาณและที่มา | J13: ตัวชี้วัด(KPI) | K13: ผลลัพธ์ที่คาดว่าจะได้รับ | L13: หน่วยงานรับผิดชอบ
E14: 2566 | F14: 2567 | G14: 2568 | H14: 2569 | I14: 2570
E15: (บาท) | F15: (บาท) | G15: (บาท) | H15: (บาท) | I15: (บาท)
A16: 1 | B16: โครงการก่อสร้างสนามจักรยานขาไถ Balance Bike | C16: - สนามจักรยานขาไถ 1 สนาม ฯลฯ | D16: - ก่อสร้างสนามจักรยานขาไถ Balance Bike ขนาด 40*40 ม.หรือตามแบบที่กำหนด | E16: - | F16: - | G16: 1800000 | H16: 1800000 | I16: 1800000 | J16: สนามจักรยานขาไถ | K16: - สนามจักรยานขาไถและนักเรียนมีพะฒนาการเหมาะสมตามวัย | L16: กองการศึกษาฯ (เงินอุดหนุนเฉพาะกิจ)
B17: รวมงบประมาณ | E17: =SUM(#REF!) -> #REF! | F17: =SUM(#REF!) -> #REF! | G17: =SUM(G16) -> 1800000 | H17: =SUM(H16) -> 1800000 | I17: =SUM(I16) -> 1800000
C18: รวมโครงการ | E18: =COUNT(#REF!) -> 0 | F18: =COUNT(#REF!) -> 0 | G18: =COUNT(G16) -> 1 | H18: =COUNT(H16) -> 1 | I18: =COUNT(I16) -> 1

Sheet Sheet1
