Workbook

Sheet ส่วนที่ 3
A1: ส่วนที่ 3
A2: การนำแผนพัฒนาท้องถิ่นไปสู่การปฏิบัติ
A3: ๑. ยุทธศาสตร์การพัฒนาและแผนงาน
A4: ที่ | B4: ยุทธศาสตร์ | C4: ด้าน | D4: แผนงาน | E4: หน่วยงานรับผิดชอบหลัก | F4: หน่วยงานสนับสนุน
A5: 1 | B5: การพัฒนาด้านโครงสร้างพื้นฐาน | C5: การเศรษฐกิจ | D5: แผนงานอุตสาหกรรมและการโยธา | E5: กองช่าง | F5: อบต.ในควน
C6: บริการชุมชนและสังคม | D6: แผนงานเคหะและชุมชน | E6: กองช่าง
A7: 2 | B7: การพัฒนาด้านคุณภาพชีวิต | C7: บริการชุมชนและสังคม | D7: แผนงานสังคมสงเคราะห์ | E7: สำนักปลัด
D8: แผนงานการศึกษา | E8: กองการศึกษา
D9: แผนงานศาสนาวัฒนธรรม | E9: กองการศึกษา
D10: แผนงานสร้างความเข้มแข็งของชุมชน | E10: สำนักปลัด
D11: แผนงานสาธารณสุข | E11: สำนักปลัด
C12: การเศรษฐกิจ | D12: แผนงานอุตสาหกรรมและการโยธา | E12: กองช่าง สำนักปลัด
A13: 3 | B13: การจัดระเบียบชุมชนและการรักษาความสงบเรียบร้อย | C13: บริหารงานทั่วไป | D13: แผนงานการรักษาความสงบภายใน | E13: สำนักปลัด
A15: 4 | B15: ด้านการวางแผน การส่งเสริมการลงทุน พาณิชยกรรมและการท่องเที่ยว | C15: การเศรษฐกิจ | D15: แผนงานการพาณิชย์ | E15: สำนักปลัด
A17: 5 | B17: ด้านการบริหารจัดการและการอนุรักษ์ทรัพยากรธรรมชาติและสิ่งแวดล้อม | C17: การเศรษฐกิจ | D17: แผนงานการเกษตร | E17: สำนักปลัด /กองช่าง
C19: บริการชุมชนและสังคม | D19: แผนงานเคหะและชุมชน
A20: 6 | B20: ด้านศิลปะ วัฒนธรรมจารีตประเพณีและภูมิปัญญาท้องถิ่น | C20: บริการชุมชนและสังคม | D20: แผนงานศาสนาวัฒนธรรมและนันทนาการ | E20: กองการศึกษา
A22: 7 | B22: การพัฒนาด้านการบิรหารจัดการ | C22: บริหารงานทั่วไป | D22: แผนงานบริหารงานทั่วไป | E22: สำนักปลัด
D23: แผนงานอุตสาหกรรมและการโยธา | E23: กองช่าง
A24: รวม | B24: 7 ยุทธศาสตร์ | C24: 4 ด้าน | D24: 11 แผนงาน | E24: 4 สำนัก/กอง

Sheet ผ 01 
A1: บัญชีสรุปโครงการพัฒนา
A2: แผนพัฒนาท้องถิ่น (พ.ศ. 2566-2570) เพิ่มเติม ครั้งที่ 3/2567
A3: องค์การบริหารส่วนตำบลในควน
A5: ยุทธศาสตร์ | B5: ปี 2566 | D5: ปี 2567 | F5: ปี 2568 | H5: ปี 2569 | J5: ปี 2570 | L5: รวม 5 ปี
B6: จำนวน | C6: งบประมาณ | D6: จำนวน | E6: งบประมาณ | F6: จำนวน | G6: งบประมาณ | H6: จำนวน | I6: งบประมาณ | J6: จำนวน | K6: งบประมาณ | L6: จำนวน | M6: งบประมาณ
B7: โครงการ | D7: โครงการ | F7: โครงการ | H7: โครงการ | J7: โครงการ | L7: โครงการ
A8: ยุทธศาสตร์ที่ 1 การพัฒนาด้านโครงสร้างพื้นฐาน
A9: กลยุทธ์ที่ 1 การพัฒนาระบบคมนาคมการ พัฒนาระบบไฟฟ้าสาธารณะ และการพัฒนาระบบประปา
A10: แผนงานอุตสาหกรรมและการโยธา | B10: =+'ยท1)'!E22 -> 0 | C10: =+'ยท1)'!E21 -> 0 | D10: =+'ยท1)'!F22 -> 0 | E10: =+'ยท1)'!F21 -> 0 | F10: ='ยท1)'!G22 -> 5 | G10: =+'ยท1)'!G21 -> 2264000 | H10: =+'ยท1)'!H22 -> 0 | I10: =+'ยท1)'!H21 -> 0 | J10: =+'ยท1)'!I22 -> 0 | K10: =+'ยท1)'!I21 -> 0 | L10: =B10+D10+F10+H10+J10 -> 5 | M10: =C10+E10+G10+I10+K10 -> 2264000
A11: รวม | B11: =SUM(B10:B10) -> 0 | C11: =SUM(C10:C10) -> 0 | D11: =SUM(D10:D10) -> 0 | E11: =SUM(E10:E10) -> 0 | F11: =SUM(F10) -> 5 | G11: =SUM(G10:G10) -> 2264000 | H11: =SUM(H10:H10) -> 0 | I11: =SUM(I10:I10) -> 0 | J11: =SUM(J10:J10) -> 0 | K11: =SUM(K10:K10) -> 0 | L11: =SUM(L10:L10) -> 5 | M11: =SUM(M10:M10) -> 2264000
A12: ยุทธศาสตร์ที่ 2 การพัฒนาด้านคุณภาพชีวิต
A13: กลยุทธ์ที่ 2.1 การส่งเสริมการศึกษาและนันทนาการ
A14: แผนงานการศึกษา | B14: =+'[1]ยท2.5 สคขข. เพิ่มเติม 2.66'!E17 -> 0 | C14: =+'[1]ยท2.5 สคขข. เพิ่มเติม 2.66'!E16 -> 0 | D14: =+'[1]ยท2.5 สคขข. เพิ่มเติม 2.66'!F17 -> 0 | E14: =+'[1]ยท2.5 สคขข. เพิ่มเติม 2.66'!F16 -> 0 | F14: ='ยท2.1ศึกษา)'!G17 -> 1 | G14: ='ยท2.1ศึกษา)'!G16 -> 200000 | H14: =+'[1]ยท2.5 สคขข. เพิ่มเติม 2.66'!K17 -> 0 | I14: =+'[1]ยท2.5 สคขข. เพิ่มเติม 2.66'!K16 -> 0 | J14: =+'[1]ยท2.5 สคขข. เพิ่มเติม 2.66'!L17 -> 0 | K14: =+'[1]ยท2.5 สคขข. เพิ่มเติม 2.66'!L16 -> 0 | L14: =F14 -> 1 | M14: =G14 -> 200000
A15: กลยุทธ์ที่ 2.3 การส่งเสริมคุณภาพชีวิตและการแก้ไขปัญหาสังคม
A16: แผนงานสร้างความเข็มแข็งของชุมชน | B16: =+'ยท1)'!E26 -> 0 | C16: =+'ยท1)'!E25 -> 0 | D16: =+'ยท1)'!F26 -> 0 | E16: =+'ยท1)'!F25 -> 0 | F16: ='ยท2.6เพิ่ม 2.66'!G17 -> 1 | G16: ='ยท2.6เพิ่ม 2.66'!G16 -> 200000 | H16: =+'ยท1)'!K26 -> 0 | I16: =+'ยท1)'!K25 -> 0 | J16: =+'ยท1)'!L26 -> 0 | K16: =+'ยท1)'!L25 -> 0 | L16: =B16+D16+F16+H16+J16 -> 1 | M16: =SUM(G16) -> 200000
A17: รวม | B17: =SUM(B16:B16) -> 0 | C17: =SUM(C16:C16) -> 0 | D17: =SUM(D16:D16) -> 0 | E17: =SUM(E16:E16) -> 0 | F17: =SUM(F14+F16) -> 2 | G17: =SUM(G14+G16) -> 400000 | H17: =SUM(H16:H16) -> 0 | I17: =SUM(I16:I16) -> 0 | J17: =SUM(J16:J16) -> 0 | K17: =SUM(K16:K16) -> 0 | L17: =B17+D17+F17+H17+J17 -> 2 | M17: =SUM(G17) -> 400000
A18: รวมทั้งสิ้น | B18: =B11 -> 0 | C18: =C11 -> 0 | D18: =D11 -> 0 | E18: =E11 -> 0 | F18: =SUM(F10+F17) -> 7 | G18: =SUM(G10+G17) -> 2664000 | H18: =SUM(H10) -> 0 | I18: =SUM(I10) -> 0 | J18: =SUM(J10) -> 0 | K18: =SUM(K10) -> 0 | L18: =SUM(L11+L17) -> 7 | M18: =SUM(M11+M17) -> 2664000

Sheet ผ02.2ยท 5
A1: รายละเอียดโครงการพัฒนา
A2: แผนพัฒนาท้องถิ่น (พ.ศ. 2566-2570) เพิ่มเติม ครั้งที่ 2/2566
A3: โครงการที่เกินศักยภาพขององค์กรปกครองส่วนท้องถิ่นที่ใช้สำหรับการประสานแผนพัฒนาท้องถิ่น
A4: องค์การบริหารส่วนตำบลในควน
B5: ก.ยุทธศาสร์ชาติ 20 ปี ยุทธศาสตร์ที่ 5 ด้านการสร้างการเติบโตบนคุณภาพชีวิตที่เป็นมิตรต่อสิ่งแวดล้อม
B6: ข.แผนพัฒนาเศรษฐกิจและสังคมแห่งชาติ ฉบับที่ 13 หมุดหมายที่ 10 ไทยมีเศรษฐกิจหมุนเวียนและสังคมคาร์บอนต่ำ จิสติกส์ที่สำคัญของภูมิภาค
B7: ค. Sustainable Development Goals : SDGs เป้าหมายที่ 9 ปกป้อง ฟื้นฟู และสนับสนุนการใช้ระบบนิเวศบนบกอย่างยั่งยืน จัดการป่าไม้อย่างยั่งยืนต่อสู้การกลายสภาพเป็นทะเลทราย หยุดการเสื่อมโทรมของที่ดินและฟื้นสภาพดิน และหยุดยั้งการสูญเสียความหลากหลายทางชีวภาพ
B8: ง. ยุทธศาสตร์จังหวัดที่ 4 การบริหารจัดการทรัพยากรธรรมชาติและสิ่งแวดล้อมอย่างเหมาะสมกับชุมชน/พื้นที่และมีความยั่งยืน
B9: จ. ยุทธศาสตร์การพัฒนา อปท.ในเขตจังหวัดตรัง ยุทธศาสตร์ ที่ 4 ยุทธศาสตร์การพัฒนาด้านการอนุรักษ์พลังงานและจัดการทรัพยากรธรรมชาติและสิ่งแวดล้อมอย่างยั่งยืน
B10: ยุทธศาสตร์ที่ 5 การพัฒนาด้านการบริหารจัดการและการอนุรักษ์ทรัพยากรธรรมชาติสิ่งแวดล้อม | K10: ผ 02/2
A11: 5.2 แผนงานอุตสาหกรรมและการโยธา | B11: กลยุทธ์ที่ 5.2 การอนุรักษ์ทรัพยากรธรรมชาติและสิ่งแวดล้อม
B12: (3) แผนงานอุตสาหกรรมและการโยธา
A13: ที่ | B13: โครงการ | C13: วัตถุประสงค์ | D13: เป้าหมาย(ผลผลิตของโครงการ) | E13: งบประมาณและที่มา | J13: ตัวชี้วัด(KPI) | K13: ผลลัพธ์ที่คาดว่าจะได้รับ | L13: หน่วยงานรับผิดชอบ
E14: 2566 | F14: 2567 | G14: 2568 | H14: 2569 | I14: 2570
E15: (บาท) | F15: (บาท) | G15: (บาท) | H15: (บาท) | I15: (บาท)
A16: 1 | B16: โครงการก่อสร้างผนังกั้นตลิ่งพังคลองปะเหลียน ชุมชนร้านใต้ – บ้านห้วยด้วน หมู่ที่ 2 | C16: - เพื่อป้องกันการพังทลายของดินที่เกิดจากการกัดเซาะของกระแสน้ำ - เพื่อการอนุรักษ์ ฟื้นฟู และบริหารจัดการ ทรัพยากรธรรมชาติและสิ่งแวดล้อมอย่างเป็นระบบและยั่งยืน | D16: - ก่อสร้างผนังกั้นตลิ่งพัง คลองปะเหลียน ชุมชนร้านใต้ – บ้านห้วยด้วน ระยะทาง 1,200 เมตร | E16: - | F16: - | G16: 10000000 | H16: - | I16: - | J16: ก่อสร้างผนังกั้นตลิ่งพัง | K16: - สามารถป้องกันการพังทลายของดินที่เกิดจากการกัดเซาะของกระแสน้ำ | L16: กองช่าง (เงินอุดหนุนเฉพาะกิจ)
B19: รวมงบประมาณ | E19: =SUM(#REF!) -> #REF! | F19: =SUM(#REF!) -> #REF! | G19: =SUM(G16:G16) -> 10000000 | H19: =SUM(#REF!) -> #REF! | I19: =SUM(#REF!) -> #REF!
C20: รวมโครงการ | E20: =COUNT(#REF!) -> 0 | F20: =COUNT(F16:F16) -> 0 | G20: =COUNT(G16:G16) -> 1 | H20: =COUNT(#REF!) -> 0 | I20: =COUNT(#REF!) -> 0

Sheet ยท1)
A1: รายละเอียดโครงการพัฒนา
A2: แผนพัฒนาท้องถิ่น (พ.ศ. 2566-2570) เพิ่มเติม ครั้งที่ 3/2567
A3: องค์การบริหารส่วนตำบลในควน
B4: ก.ยุทธศาสร์ชาติ 20 ปี ยุทธศาสตร์ที่ 2 การเพิ่มความสามารถในการแข่งขัน
B5: ข.แผนพัฒนาเศรษฐกิจและสังคมแห่งชาติ ฉบับที่ 13 หมุดหมายที่ 5 ไทยเป็นประตูการค้าการลงทุนและยุทธศาสตร์ทางโลก จิสติกส์ที่สำคัญของภูมิภาค
B6: ค. Sustainable Development Goals : SDGs เป้าหมายที่ 9 สร้างโครงสร้างพื้นฐานที่มีความทนทาน ส่งเสริมการพัฒนาอุตสาหกรรมที่ครอบคลุมและยั่งยืน และส่งเสริมนวัตกรรม
B7: ง. ยุทธศาสตร์จังหวัดตรัง ยุทธศาสตร์ที่ 1 การพัฒนาด้านโครงสร้างพื้นฐานควบคู่การท่องเที่ยวเชิงอนุรักษ์
B8: จ. ยุทธศาสตร์การพัฒนาของ อปท. ในเขตจังหวัดตรัง ยุทธศาสตร์ที่ 1 การพัฒนาด้านโครงสร้างพื้นฐานควบคู่การท่องเที่ยวเชิงอนุรักษ์ | K8: แบบ ผ.02
B9: ยุทธศาสตร์ที่ 1 การพัฒนาด้านโครงสร้างพื้นฐาน | K9: .
B10: 1.1 กลยุทธ์ที่ 1 การพัฒนาระบบคมนาคม การพัฒนาระบบไฟฟ้าสาธารณะ และการพัฒนาระบบประปา
B11: (1) แผนงานอุตสาหกรรมและการโยธา
A12: ที่ | B12: โครงการ | C12: วัตถุประสงค์ | D12: เป้าหมาย(ผลผลิตของโครงการ) | E12: งบประมาณและที่มา | J12: ตัวชี้วัด(KPI) | K12: ผลลัพธ์ที่คาดว่าจะได้รับ | L12: หน่วยงานรับผิดชอบ
E13: 2566 | F13: 2567 | G13: 2568 | H13: 2569 | I13: 2570
E14: (บาท) | F14: (บาท) | G14: (บาท) | H14: (บาท) | I14: (บาท)
A15: 1 | B15: โครงการบุกเบิกถนนลูกรังหรือหินผุสายควนบ้า - ท่าขนุน หมู่ที่ 10 | C15: - เพื่อให้ประชาชนได้มีถนนใช้ในการคมนาคมได้สะดวกรวดเร็ว - เพื่อความปลอดภัยในการใช้รถใช้ถนนในการเดินทาง | D15: - บุกเบิกถนนลูกรังหรือหินผุ ขนาดกว้าง 5.00 เมตร ระยะทาง 850.00 เมตร หนา 0.25 เมตรหรือมีพื้นที่ไม่น้อยกว่า4,250 ตร.ม.ฯลฯ พร้อมวางท่อระบายน้ำ ขนาดเส้นผ่าศูนย์กลาง 0.60 เมตร จำนวน 7 เมตร | E15: - | F15: - | G15: 483000 | H15: - | I15: - | J15: ถนนมีมาตรฐานความปลอดภัยและประชาชนได้รับความสะดวกรวดเร็วในการเดินทาง ร้อยละ 70 ขึ้นไป | K15: - ทำให้ประชาชนมีถนนใช้ที่ได้มาตรฐานและการเดินทางสะดวกรวดเร็วปลอดภัยยิ่งขึ้น | L15: กองช่าง
A16: 2 | B16: โครงการบุกเบิกถนนลูกรังหรือหินผุสายหนานปู - นาติงน้อย - ห้วยลึก หมู่ที่ 2 | C16: - เพื่อให้ประชาชนได้มีถนนใช้ในการคมนาคมได้สะดวกรวดเร็ว - เพื่อความปลอดภัยในการใช้รถใช้ถนนในการเดินทาง | D16: - บุกเบิกถนนลูกรังหรือหินผุ ขนาดกว้าง 4.00 เมตร ระยะทาง 950.00 เมตร หนา 0.25 เมตรหรือมีพื้นที่ไม่น้อยกว่า 3,800 ตร.ม.ฯลฯ พร้อมวางท่อระบายน้ำ ขนาดเส้นผ่าศูนย์กลาง 0.60 เมตร จำนวน 13 เมตร ท่อขนาดเส้นผ่าศูนย์กลาง 0.80 เมตร จำนวน 7 เมตรและขนาดเส้นผ่าศูนย์กลาง 1.00 เมตร จำนวน 7 เมตร | E16: - | F16: - | G16: 496000 | I16: - | J16: ถนนมีมาตรฐานความปลอดภัยและประชาชนได้รับความสะดวกรวดเร็วในการเดินทาง ร้อยละ 70 ขึ้นไป | K16: - ทำให้ประชาชนมีถนนใช้ที่ได้มาตรฐานและการเดินทางสะดวกรวดเร็วปลอดภัยยิ่งขึ้น | L16: กองช่าง
A17: 3 | B17: โครงการก่อสร้างถนนคอนกรีตเสริมเหล็ก สายในควน - ท่านาหัวนอน หมู่ที่ 7 | C17: - เพื่อให้ประชาชนได้มีถนนใช้ในการคมนาคมได้สะดวกรวดเร็ว - เพื่อความปลอดภัยในการใช้รถใช้ถนนในการเดินทาง | D17: - ก่อสร้างถนนคอนกรีตเสริมเหล็ก ขนาดกว้าง 4.00 เมตร ระยะทาง 185.00 เมตร หนา 0.15 เมตร หรือมีพื้นที่ไม่น้อยกว่า 740 ตร.ม. ฯลฯ | E17: - | F17: - | G17: 488000 | H17: - | I17: - | J17: ถนนมีมาตรฐานความปลอดภัยและประชาชนได้รับความสะดวกรวดเร็วในการเดินทาง ร้อยละ 70 ขึ้นไป | K17: - ทำให้ประชาชนมีถนนใช้ที่ได้มาตรฐานและการเดินทางสะดวกรวดเร็วปลอดภัยยิ่งขึ้น | L17: กองช่าง
A18: 4 | B18: โครงการก่อสร้างถนนคอนกรีตเสริมเหล็ก สายต้นเมา - โรงพระ หมู่ที่ 4 | C18: - เพื่อให้ประชาชนได้มีถนนใช้ในการคมนาคมได้สะดวกรวดเร็ว - เพื่อความปลอดภัยในการใช้รถใช้ถนนในการเดินทาง | D18: - ก่อสร้างถนนคอนกรีตเสริมเหล็ก ขนาดกว้าง 3.00 - 4.00 เมตร ระยะทาง 220.00 เมตร หนา 0.15 เมตร หรือมีพื้นที่ไม่น้อยกว่า 750 ตร.ม. ฯลฯ | E18: - | F18: - | G18: 497000 | H18: - | I18: - | J18: ถนนมีมาตรฐานความปลอดภัยและประชาชนได้รับความสะดวกรวดเร็วในการเดินทาง ร้อยละ 70 ขึ้นไป | K18: - ทำให้ประชาชนมีถนนใช้ที่ได้มาตรฐานและการเดินทางสะดวกรวดเร็วปลอดภัยยิ่งขึ้น | L18: กองช่าง
A19: 5 | B19: โครงการปรับปรุงต่อเติมอาคารห้องเก็บพัสดุส่วนโยธา | C19: - เพื่อปรับปรุงต่อเติมอาคารห้องเก็บพัสดุส่วนโยธาเป็นอาคารปฏิบัติราชการกองช่าง(ชั่วคราว) และการจัดเก็บเอกสารและทรัพย์สิน - เพื่อเพิ่มประสิทธิภาพในการปฏิบัติงานและอำนวยความสะดวกให้กับประชาชนที่มาติดต่อราชการ ฯลฯ | D19: - ปรับปรุงอาคารขนาดกว้าง 4.00 x 15.00 เมตรและต่อเติมอาคารขนาด 1.50 x 15.00 เมตร หรือมีพื้นที่ไม่น้อยกว่า 82.5 ตร.ม. ฯลฯ | E19: - | F19: - | G19: 300000 | H19: - | I19: - | J19: ประสิทธิภาพในการปฏิบัติราชการและการบริการประชาชนเพิ่มมากขึ้น | K19: - การปฏิบัติราชการมีประสิทธิภาพเพิ่มขึ้น - ประชาชนได้รับการอำนวยความสะดวกที่ดีขึ้น ฯ | L19: กองช่าง
A20: 18
A21: 19 | B21: รวมงบประมาณ | E21: =SUM(E15:E19) -> 0 | F21: =SUM(F15:F19) -> 0 | G21: =SUM(G15:G19) -> 2264000 | H21: =SUM(H15:H19) -> 0 | I21: =SUM(I15:I19) -> 0
A22: 20 | C22: รวมโครงการ | E22: =COUNT(#REF!) -> 0 | F22: =COUNT(F15:F19) -> 0 | G22: =COUNT(G15:G19) -> 5 | H22: =COUNT(H15:H19) -> 0 | I22: =COUNT(I15:I19) -> 0

Sheet ยท1.2)
A1: รายละเอียดโครงการพัฒนา
A2: แผนพัฒนาท้องถิ่น (พ.ศ. 2566-2570) เพิ่มเติม ครั้งที่ 1/2566
A3: องค์การบริหารส่วนตำบลในควน
B4: ก.ยุทธศาสร์ชาติ 20 ปี ยุทธศาสตร์ที่ 2 การเพิ่มความสามารถในการแข่งขัน
B5: ข.แผนพัฒนาเศรษฐกิจและสังคมแห่งชาติ ฉบับที่ 13 หมุดหมายที่ 5 ไทยเป็นประตูการค้าการลงทุนและยุทธศาสตร์ทางโลก จิสติกส์ที่สำคัญของภูมิภาค
B6: ค. Sustainable Development Goals : SDGs เป้าหมายที่ 9 สร้างโครงสร้างพื้นฐานที่มีความทนทาน ส่งเสริมการพัฒนาอุตสาหกรรมที่ครอบคลุมและยั่งยืน และส่งเสริมนวัตกรรม
B7: ง. ยุทธศาสตร์จังหวัดตรัง ยุทธศาสตร์ที่ 1 การพัฒนาด้านโครงสร้างพื้นฐานควบคู่การท่องเที่ยวเชิงอนุรักษ์
B8: จ. ยุทธศาสตร์การพัฒนาของ อปท. ในเขตจังหวัดตรัง ยุทธศาสตร์ที่ 1 การพัฒนาด้านโครงสร้างพื้นฐานควบคู่การท่องเที่ยวเชิงอนุรักษ์
B9: ยุทธศาสตร์ที่ 1 การพัฒนาด้านโครงสร้างพื้นฐาน | K9: แบบ ผ.02
B10: 1.1 กลยุทธ์ที่ 1 การพัฒนาระบบคมนาคม การพัฒนาระบบไฟฟ้าสาธารณะ และการพัฒนาระบบประปา
B11: (2) แผนงานเคหะและชุมชน
A12: ที่ | B12: โครงการ | C12: วัตถุประสงค์ | D12: เป้าหมาย(ผลผลิตของโครงการ) | E12: งบประมาณและที่มา | J12: ตัวชี้วัด(KPI) | K12: ผลลัพธ์ที่คาดว่าจะได้รับ | L12: หน่วยงานรับผิดชอบ
E13: 2566 | F13: 2567 | G13: 2568 | H13: 2569 | I13: 2570
E14: (บาท) | F14: (บาท) | G14: (บาท) | H14: (บาท) | I14: (บาท)
A15: 1 | B15: โครงการพัฒนาแหล่งน้ำระบบประปา หน่วยบ้านหนานปู หมู่ที่ 2 | C15: - เพื่อกักเก็บน้ำในฤดูแล้ง สำหรับผลิตน้ำประปาหน่วยบ้านหนานปู ฯลฯ | D15: - ก่อสร้างฝายชะลอน้ำโดยวางหินเรียงเป็นผนังกั้นน้ำ ขนาดกว้าง 1.5 - 2 เมตร ยาว 4 -5 เมตร ลึก 3 เมตร และขุดสระน้ำ ขนาดพื้นที่ไม่น้อยกว่า 150 ตร.ม. ฯลฯ | E15: 500000 | F15: - | G15: - | H15: - | I15: - | J15: ระบบประปาหมู่บ้านมีน้ำใช้ได้เพียงพอทั้งปี | K15: - เพื่อแก้ปัญหาการใช้น้ำประปาของประชาชนหมู่ที่ 2 | L15: กองช่าง
A16: 2 | B16: โครงการพัฒนาแหล่งน้ำระบบประปา หน่วยชุมชนโคกยูง หมู่ที่ 5 | C16: - เพื่อกักเก็บน้ำในฤดูแล้ง สำหรับผลิตน้ำประปาหน่วยชุมชนโคกยูง ฯลฯ | D16: - ขุดสระน้ำ ขนาดกว้าง 14 เมตร ยาว 25 เมตร ลึก 3 เมตร | E16: - | F16: 200000 | G16: - | H16: - | I16: - | J16: ระบบประปาหมู่บ้านมีน้ำใช้ได้เพียงพอทั้งปี | K16: - เพื่อแก้ปัญหาการใช้น้ำประปาของประชาชนหมู่ที่ 5 | L16: กองช่าง
A17: 3 | B17: โครงการก่อสร้างคูระบายน้ำ ถนนสายหน้ามัสยิดบ้านหนองขอน หมู่ที่ 9 | C17: - เพื่อการระบายน้ำลดการท่วมขังเมื่อฝนตกหนัก ฯลฯ | D17: - ก่อสร้างคูระบายน้ำคอนกรีตเสริมเหล็ก ขนาดกว้าง 0.60 เมตร ลึกเฉลี่ยไม่น้อยกว่า 0.80 เมตร ระยะทาง 200 เมตร ฯลฯ | E17: - | F17: 600000 | G17: - | H17: - | I17: - | J17: สองข้างถนนมีคูระบายน้ำ ไม่เกิดน้ำท่วมขัง | K17: แก้ปัญหาน้ำท่วมขังบริเวณถนน | L17: กองช่าง
B18: รวมงบประมาณ | E18: =SUM(E15:E17) -> 500000 | F18: =SUM(F15:F17) -> 800000 | G18: =SUM(G15:G17) -> 0 | H18: =SUM(H17:H17) -> 0 | I18: =SUM(I17:I17) -> 0
C19: รวมโครงการ | E19: =COUNT(E15:E17) -> 1 | F19: =COUNT(F15:F17) -> 2 | G19: =COUNT(G15:G17) -> 0 | H19: =COUNT(H17:H17) -> 0 | I19: =COUNT(I17:I17) -> 0

Sheet ผ02.2ยท5.2)
A1: รายละเอียดโครงการพัฒนา
A2: แผนพัฒนาท้องถิ่น (พ.ศ. 2566-2570) เพิ่มเติม ครั้งที่ 1/2566
A3: โครงการที่เกินศักยภาพขององค์กรปกครองส่วนท้องถิ่นที่ใช้สำหรับการประสานแผนพัฒนาท้องถิ่น
A4: องค์การบริหารส่วนตำบลในควน
B5: ก.ยุทธศาสร์ชาติ 20 ปี ยุทธศาสตร์ที่ 5 ด้านการสร้างการเติบโตบนคุณภาพชีวิตที่เป็นมิตรต่อสิ่งแวดล้อม
B6: ข.แผนพัฒนาเศรษฐกิจและสังคมแห่งชาติ ฉบับที่ 13 หมุดหมายที่ 10 ไทยมีเศรษฐกิจหมุนเวียนและสังคมคาร์บอนต่ำ จิสติกส์ที่สำคัญของภูมิภาค
B7: ค. Sustainable Development Goals : SDGs เป้าหมายที่ 9 ปกป้อง ฟื้นฟู และสนับสนุนการใช้ระบบนิเวศบนบกอย่างยั่งยืน จัดการป่าไม้อย่างยั่งยืนต่อสู้การกลายสภาพเป็นทะเลทราย หยุดการเสื่อมโทรมของที่ดินและฟื้นสภาพดิน และหยุดยั้งการสูญเสียความหลากหลายทางชีวภาพ
B8: ง. ยุทธศาสตร์จังหวัดที่ 4 การบริหารจัดการทรัพยากรธรรมชาติและสิ่งแวดล้อมอย่างเหมาะสมกับชุมชน/พื้นที่และมีความยั่งยืน
B9: จ. ยุทธศาสตร์การพัฒนา อปท.ในเขตจังหวัดตรัง ยุทธศาสตร์ ที่ 4 ยุทธศาสตร์การพัฒนาด้านการอนุรักษ์พลังงานและจัดการทรัพยากรธรรมชาติและสิ่งแวดล้อมอย่างยั่งยืน
B10: ยุทธศาสตร์ที่ 5 การพัฒนาด้านการบริหารจัดการและการอนุรักษ์ทรัพยากรธรรมชาติสิ่งแวดล้อม | K10: ผ 02/2
A11: 5.2 แผนงานอุตสาหกรรมและการโยธา | B11: กลยุทธ์ที่ 5.2 การอนุรักษ์ทรัพยากรธรรมชาติและสิ่งแวดล้อม
B12: (2) แผนงานเคหะและชุมชน
A13: ที่ | B13: โครงการ | C13: วัตถุประสงค์ | D13: เป้าหมาย(ผลผลิตของโครงการ) | E13: งบประมาณและที่มา | J13: ตัวชี้วัด(KPI) | K13: ผลลัพธ์ที่คาดว่าจะได้รับ | L13: หน่วยงานรับผิดชอบ
E14: 2566 | F14: 2567 | G14: 2568 | H14: 2569 | I14: 2570
E15: (บาท) | F15: (บาท) | G15: (บาท) | H15: (บาท) | I15: (บาท)
A16: 1 | B16: โครงการสนับสนุนและส่งเสริมเตาเผาขยะไร้ควันในชุมชน | C16: 1.เพื่อให้ชุมชนสามารถกำจัดขยะและลดปัญหามลภาวะในพื้นที่ 2.เพื่อลดค่าใช้จ่ายในการกำจัดขยะ | D16: - โรงเรียนในพื้นที่ตำบลในควน จำนวน 5 แห่ง -วัดในพื้นที่ตำบลในควน จำนวน 5 แห่ง -มัสยิดในพื้นที่ตำบลในควน จำนวน 8 แห่ง -ศูนย์พัฒนาเด็กเล็กในเขตพื้นที่ตำบลในควน จำนวน 3 แห่ง | E16: 96600 | F16: 96600 | G16: 96600 | H16: 96600 | I16: 96600 | J16: 1.ประหยัดค่าใช้จ่ายในการกำจัดขยะ ด้วยการ ใช้เตาเผาไร้ควัน 2. มีพลังงานทนแทนในการจัดการขยะในพื้นที่ | K16: 1.มีการใช้พลังงานทดแทนในพื้นที่มากขึ้น 2.ลดค่าใช้จ่ายด้านพลังงานให้กับประชาชนในพื้นที่ 3.ช่วยให้คุณภาพสิ่งแวดล้อมในชุมชนดีขึ้น | L16: สพจ.ตรัง อบต.ในควน
A17: 2 | B17: โครงการสนับสนุนและส่งเสริมการใช้เตาซุปเปอร์อั้งโล่ในชุมชน | C17: 1.เพื่อส่งเสริมให้มีการใช้พลังงานทดแทนในพื้นที่ 2.เพื่อลดต้นทุนค่าใช้จ่ายด้านพลังงาน | D17: ส่งเสริมการใช้เตาซุปเปอร์อั้งโล่ในชุมชน จำนวน 50 ครัวเรือน | E17: 15000 | F17: 15000 | G17: 15000 | H17: 15000 | I17: 15000 | J17: ลดค่าใช้จ่ายด้านพลังงานในแต่ละครัวเรือน | K17: ประชาชนใช้พลังงานทดแทนในพื้นที่ สมารถลดต้นทุนค่าใช้จ่ายด้านพลังงาน | L17: สพจ.ตรัง อบต.ในควน
A18: 3 | B18: โครงการการจัดการขยะมูลฝอยใน ครัวเรือนและชุมชน | C18: 1.เพื่อสร้างความรู้ความเข้าใจในการจัดการขยะในชุมชน 2.เพื่อจัดการขยะในชุมชนให้เป็นระบบ และเกิดสภาพแวดล้อมที่ดี 3.เพื่อลดค่าใช้จ่ายและสร้างรายได้จากการคัดแยกขยะในชุมชน | D18: จัดโครงการให้ความรู้สร้างความรู้ความเข้าใจในการจัดการขยะจากครัวเรือน | E18: 30000 | F18: 30000 | G18: 30000 | H18: 30000 | I18: 30000 | J18: 1.ประชาชนในพื้นที่มีความรู้ความเข้าใจในการจัดการขยะในชุมชน 2.ลดปัญหามลภาวะและทำให้ชุมชนมีสภาพแวดล้อมที่ดีขึ้น 3.ลดค่าใช้จ่ายด้านการจัดการคัดแยกขยะในชุมชน 4.ประชาชนมีรายได้เพิ่มขึ้นจากการคัดแยกขยะ | K18: อบต.สามารถจัดการขยะในชุมชนให้เป็นระบบ และเกิดสภาพแวดล้อมที่ดี | L18: สพจ.ตรัง อบต.ในควน
A19: 4 | B19: โครงการส่งเสริมระบบผลิตก๊าซชีวภาพจากมูลสัตว์และขยะเปียกในครัวเรือน | C19: 1. เพื่อแก้ปัญหาด้านสิ่งแวดล้อมจากการเลี้ยงสัตว์โดยการนำมูลสัตว์มาทำแก๊สชีวภาพ 2. เป็นสถานที่ศึกษากระบวนการเรียนรู้ร่วมกันด้านพลังงานชุมชน ในพื้นที่ตำบลในควน 3.เพื่อจัดการขยะในครัวเรือน ให้เป็นประโยชน์ ลดรายจ่าย และเกิดสภาพแวดล้อมที่ดี | D19: ระบบก๊าชชีวภาพ แบบถุง PVC Covered lagoonกำลังกาผลิต 10 ลูกบาศก์เมตร | E19: 15000 | F19: 15000 | G19: 15000 | H19: 15000 | I19: 15000 | J19: 1. เพื่อแก้ปัญหาขยะ และมลภาวะทางกลิ่นในพื้นที่ 2. เพื่อลดต้นทุนค่าใช้จ่ายด้านพลังงาน ของครัวเรือน | K19: 1.ลดค่าใช้จ่ายด้านพลังงาน 2.ลดปัญหาเรื่องกลิ่นเหม็น 3.ชุมชนเกิดสภาพแวดล้อมที่ดีขึ้น 4.เกิดรายได้จากปุ๋ยหมักชีวภาพ | L19: สพจ.ตรัง อบต.ในควน
A20: 5 | B20: โครงการพลังงานแสงอาทิตย์ลดต้นทุนการใช้พลังงานไฟฟ้าในระบบประปาหมู่บ้าน | C20: เพื่อลดต้นทุนค่าใช้จ่ายด้านพลังงาน ระบบประปาหมู่บ้าน ใช้ระบบพลังงานแสงอาทิตย์มาใช้กับระบบประปาหมู่บ้าน แบบผสมผสานกับการใช้พลังงานไฟฟ้า เพื่อลดค่าใช้จ่ายในระบบประปาหมู่บ้าน | D20: ติดตั้ง ระบบสูบน้ำพลังงานแสงอาทิตย์สำหรับแหล่งน้ำผิวดิน แผงโซลาเซลล์ไม่น้อยกว่า 3,060 วัตต์ มอเตอร์ประสิทธิภาพสูง 3 แรงม้า หรือ 2.2 kW เหมาะสมกับชนิดปั๊มสูบน้ำ | E20: 450000 | F20: 450000 | G20: 450000 | H20: 450000 | I20: 450000 | J20: 1.ลดค่าใช้จ่ายด้านพลังงานไฟฟ้าของระบบประปาหมู่บ้าน 2.ประชาชนมีคุณภาพชีวิตที่ดีขึ้น 3.สามารถนำพลังงานแสงอาทิตย์มาใช้ให้เกิดประโยชน์ | K20: ระบบประปาหมู่บ้านมีประสิทธิภาพ สามารถผลิตน้ำได้เพียงพอกับจำนวนผู้ใช้น้ำ และสามารถลดการใช้พลังงานไฟฟ้าในแต่ละเดือน | L20: สพจ.ตรัง อบต.ในควน
A21: 6 | B21: โครงการส่งเสริมผลิตภัณฑ์ชุมชนด้วยระบบตู้อบแห้งพลังงานแสงอาทิตย์ | C21: 1.เพื่อส่งเสริมให้มีการใช้พลังงานทดแทนกลุ่มอาชีพในชุมชน 2.เพื่อเพิ่มประสิทธิภาพในกระบวนการผลิตและเพิ่มมูลค่าผลิตภัณฑ์ ของกลุ่มอาชีพวิสาหกิจบ้านในควนและกลุ่มอาชีพทำน้ำพริก | D21: ตู้อบแห้งพลังงานแสงอาทิตย์ ขนาด 2x2 เมตร จำนวน 2 ชุด | E21: 50000 | F21: 50000 | G21: 50000 | H21: 50000 | I21: 50000 | J21: 1.เพิ่มประสิทธิภาพในกระบวนการผลิต ลดระยะเวลาการตากแห้ง 2.ผลิตภัณฑ์ที่ได้สะอาด ถูกสุขอนามัย 3.ช่วยเพิ่มมูลค่าให้กับผลิตภัณฑ์ | K21: ตู้อบแห้งพลังงานแสงอาทิตย์ ช่วยลดต้นทุนการผลิต ลดระยะเวลาการตากแห้ง และมีความสะอาดปลอดภัย | L21: สพจ.ตรัง อบต.ในควน
B22: รวมงบประมาณ | E22: =SUM(E16:E21) -> 656600 | F22: =SUM(F16:F21) -> 656600 | G22: =SUM(G16:G21) -> 656600 | H22: =SUM(H16:H21) -> 656600 | I22: =SUM(I16:I21) -> 656600
C23: รวมโครงการ | E23: =COUNT(E16:E21) -> 6 | F23: =COUNT(F16:F21) -> 6 | G23: =COUNT(G16:G21) -> 6 | H23: =COUNT(H16:H21) -> 6 | I23: =COUNT(I16:I21) -> 6

Sheet ยท2.1ศึกษา)
A1: รายละเอียดโครงการพัฒนา
A2: แผนพัฒนาท้องถิ่น (พ.ศ. 2566-2570) เพิ่มเติม ครั้งที่ 3/2567
A3: องค์การบริหารส่วนตำบลในควน
B4: ก.ยุทธศาสร์ชาติ 20 ปี ยุทธศาสตร์ที่ 3 ด้านการพัฒนาและเสริมสร้างศักยภาพทรัพยากรมนุษย์
B5: ข.แผนพัฒนาเศรษฐกิจและสังคมแห่งชาติ ฉบับที่ 13 หมุดหมายที่ 12 ไทยมีกำลังคนสมรรถนะสูง มุ่งเรียนรู้อย่างต่อเนื่อง ตอบโจทย์การพัฒนาแห่งอนาคต
B6: ค. Sustainable Development Goals : SDGs เป้าหมายที่ 3 สร้างหลักประกันว่าคนมีชีวิตที่มีสุขภาพดีและส่งเสริมความเป็นอยู่ที่ดีสำหรับทุกคนในทุกวัย
B7: ง. ยุทธศาสตร์จังหวัดที่ 3 การเสริมสร้างความมั่นคงทางสังคม พัฒนาคุณภาพชีวิตและการเรียนรู้อย่างมีคุณภาพ
B8: จ. ยุทธศาสตร์การพัฒนาของ อปท.ในเขตจังหวัดที่ 2 การพัฒนาด้านคุณภาพชีวิตและส่งเสริมการศึกษาเรียนรู้แบบองค์รวม
B9: ยุทธศาสตร์ที่ 2 การพัฒนาด้านคุณภาพชีวิต | K9: แบบ ผ 02
B10: กลยุทธ์ที่ 2.1 ส่งเสริมการศึกษาและนันทนาการ
B11: (1) แผนงานการศึกษา
A12: ที่ | B12: โครงการ | C12: วัตถุประสงค์ | D12: เป้าหมาย(ผลผลิตของโครงการ) | E12: งบประมาณและที่มา | J12: ตัวชี้วัด(KPI) | K12: ผลลัพธ์ที่คาดว่าจะได้รับ | L12: หน่วยงานรับผิดชอบ
E13: 2566 | F13: 2567 | G13: 2568 | H13: 2569 | I13: 2570
E14: (บาท) | F14: (บาท) | G14: (บาท) | H14: (บาท) | I14: (บาท)
A15: 1 | B15: โครงการปรับปรุง ต่อเติมอาคารศูนย์สารสนเทศ | C15: - เพื่อเพิ่มพื้นที่ใช้ ในการปฏิบัติงานของกองการศึกษาฯ - เพื่อเพิ่มประสิทธิภาพในการทำงานและเพิ่มความสามารถของศูนย์เพื่อบริการของประชาชน ฯลฯ | D15: - ต่อเติมห้องเก็บเอกสารและพัสดุ ขนาดพื้นที่กว้าง 4x4 เมตร จำนวน 2 ห้อง ฯลฯ | E15: - | F15: - | G15: 200000 | H15: - | I15: - | J15: ทำให้เกิดประสิทธิภาพในการปฏิบัติราชการและการเก็บเอกสารและพัสดุ | K15: - มีพื้นที่ใช้ในการปฏิบัติงานของกองการศึกษาและอำนวยความสะดวกในการบริการประชาชนเพิ่มขึ้น ฯ | L15: กองการศึกษา
B16: รวมงบประมาณ | E16: =SUM(#REF!) -> #REF! | F16: =SUM(#REF!) -> #REF! | G16: =SUM(G15:G15) -> 200000 | H16: =SUM(#REF!) -> #REF! | I16: =SUM(#REF!) -> #REF!
C17: รวมโครงการ | E17: =COUNT(#REF!) -> 0 | F17: =COUNT(#REF!) -> 0 | G17: =COUNT(G15:G15) -> 1 | H17: =COUNT(#REF!) -> 0 | I17: =COUNT(#REF!) -> 0

Sheet ยท2.6เพิ่ม 2.66
A1: รายละเอียดโครงการพัฒนา
A2: แผนพัฒนาท้องถิ่น (พ.ศ. 2566-2570) เพิ่มเติม ครั้งที่ 3/2567
A3: องค์การบริหารส่วนตำบลในควน
B4: ก.ยุทธศาสร์ชาติ 20 ปี ยุทธศาสตร์ที่ 3 ด้านการพัฒนาและเสริมสร้างศักยภาพทรัพยากรมนุษย์
B5: ข.แผนพัฒนาเศรษฐกิจและสังคมแห่งชาติ ฉบับที่ 13 หมุดหมายที่ 12 ไทยมีกำลังคนสมรรถนะสูง มุ่งเรียนรู้อย่างต่อเนื่อง ตอบโจทย์การพัฒนาแห่งอนาคต จิสติกส์ที่สำคัญของภูมิภาค
B6: ค. Sustainable Development Goals : SDGs เป้าหมายที่ 3 สร้างหลักประกันว่าคนมีชีวิตที่มีสุขภาพดีและส่งเสริมความเป็นอยู่ที่ดีสำหรับทุกคนในทุกวัย
B7: ง. ยุทธศาสตร์จังหวัดตรัง ยุทธศาสตร์ที่ 3 การเสริมสร้างความมั่นคงทางสังคม พัฒนาคุณภาพชีวิตและการเรียนรู้อย่างมีคุณภาพ
B8: จ. ยุทธศาสตร์การพัฒนาของ อปท. ในเขตจังหวัดตรัง ยุทธศาสตร์ที่ 2 การพัฒนาด้านคุณภาพชีวิตและส่งเสริมการศึกษาเรียนรู้แบบองค์รวม
B9: ยุทธศาสตร์ที่ 2 การพัฒนาด้านคุณภาพชีวิต | K9: แบบ ผ 02
B10: กลยุทธ์ที่ 2.3 การส่งเสริมคุณภาพชีวิตและการแก้ไขปัญหาสังคม
B11: แผนงานสร้างความเข็มแข็งของชุมชน
A12: ที่ | B12: โครงการ | C12: วัตถุประสงค์ | D12: เป้าหมาย(ผลผลิตของโครงการ) | E12: งบประมาณและที่มา | J12: ตัวชี้วัด(KPI) | K12: ผลลัพธ์ที่คาดว่าจะได้รับ | L12: หน่วยงานรับผิดชอบ
E13: 2566 | F13: 2567 | G13: 2568 | H13: 2569 | I13: 2570
E14: (บาท) | F14: (บาท) | G14: (บาท) | H14: (บาท) | I14: (บาท)
A15: 1 | B15: โครงการปรับปรุง ต่อเติม อาคารศูนย์พัฒนาคุณภาพชีวิตและส่งเสริมอาชีพผู้สูงอายุ (ศพอส.) ตำบลในควน | C15: - เพื่อให้ศูนย์ฯ มีความสะดวกในการดำเนินกิจกรรม - เพื่อใช้ในการเก็บเอกสารและทรัพย์สินของส่วนราชการ ฯ | D15: ปรับปรุงต่อเติมอาคาร ศพอส. ขนาดกว้าง 4x4 เมตร จำนวน 2 ห้อง ฯลฯ | E15: - | F15: - | G15: 200000 | H15: - | I15: - | J15: ศูนย์ฯ มีประสิทธิภาพในการดำเนินงานเพิ่มขึ้น | K15: - มีความสะดวกในการดำเนินกิจกรรมของศูนย์ และองค์กรชุมชน และมีความปลอดภัยในการเก็บรักษาทรัพย์สินของศูนย์และทรัพย์สินทางราชการ ฯ | L15: สำนักปลัด
B16: รวมงบประมาณ | E16: =SUM(E15:E15) -> 0 | F16: =SUM(F15:F15) -> 0 | G16: =SUM(G15:G15) -> 200000 | H16: =SUM(H15:H15) -> 0 | I16: =SUM(I15:I15) -> 0
C17: รวมโครงการ | E17: =COUNT(E15:E15) -> 0 | F17: =COUNT(F15:F15) -> 0 | G17: =COUNT(G15:G15) -> 1 | H17: =COUNT(H15:H15) -> 0 | I17: =COUNT(I15:I15) -> 0

Sheet ยท2.2สารสุข เพิ่มเติม 2.66
A1: รายละเอียดโครงการพัฒนา
A2: แผนพัฒนาท้องถิ่น (พ.ศ. 2566-2570) เพิ่มเติม ครั้งที่ 2/2566
A3: องค์การบริหารส่วนตำบลในควน
B4: ก.ยุทธศาสร์ชาติ 20 ปี ยุทธศาสตร์ที่ 3 ด้านการพัฒนาและเสริมสร้างศักยภาพทรัพยากรมนุษย์
B5: ข.แผนพัฒนาเศรษฐกิจและสังคมแห่งชาติ ฉบับที่ 13 หมุดหมายที่ 12 ไทยมีกำลังคนสมรรถนะสูง มุ่งเรียนรู้อย่างต่อเนื่อง ตอบโจทย์การพัฒนาแห่งอนาคต
B6: ค. Sustainable Development Goals : SDGs เป้าหมายที่ 3 สร้างหลักประกันว่าคนมีชีวิตที่มีสุขภาพดีและส่งเสริมความเป็นอยู่ที่ดีสำหรับทุกคนในทุกวัย
B7: ง. ยุทธศาสตร์จังหวัดที่ 3 การเสริมสร้างความมั่นคงทางสังคม พัฒนาคุณภาพชีวิตและการเรียนรู้อย่างมีคุณภาพ
B8: จ. ยุทธศาสตร์การพัฒนาของ อปท.ในเขตจังหวัดที่ 2 การพัฒนาด้านคุณภาพชีวิตและส่งเสริมการศึกษาเรียนรู้แบบองค์รวม
B9: ยุทธศาสตร์ที่ 2 การพัฒนาด้านคุณภาพชีวิต | K9: แบบ ผ02
B10: กลยุทธ์ที่ 2.2 การส่งเสริมสาธารณสุขและสวัสดิการสังคม
B11: (3) แผนงานสาธารณสุข
A12: ที่ | B12: โครงการ | C12: วัตถุประสงค์ | D12: เป้าหมาย(ผลผลิตของโครงการ) | E12: งบประมาณและที่มา | J12: ตัวชี้วัด(KPI) | K12: ผลลัพธ์ที่คาดว่าจะได้รับ | L12: หน่วยงานรับผิดชอบ
E13: 2566 | F13: 2567 | G13: 2568 | H13: 2569 | I13: 2570
E14: (บาท) | F14: (บาท) | G14: (บาท) | H14: (บาท) | I14: (บาท)
A15: 1 | B15: โครงการก่อสร้างธนาคารขยะองค์การบริหารส่วนตำบลในควน | C15: เพื่อก่อสร้างธนาคารขยะองค์การบริหารส่วนตำบลในควน | D15: - โดยก่อสร้างธนาคารขยะองค์การบริหารส่วนตำบลในควน | E15: - | F15: 100000 | G15: - | H15: - | I15: - | J15: - พื้นที่ทีใช้ประโยชน์ในการบริหารจัดการธนาคารขยะองค์การบริหารส่วนตำบลในควน | K15: มีอาคารพื้นที่ทำการธนาคารขยะองค์การบริหารส่วนตำบลในควน | L15: สำนักปลัด
B16: รวมงบประมาณ | E16: =SUM(E15:E15) -> 0 | F16: =SUM(F15:F15) -> 100000 | G16: =SUM(G15:G15) -> 0 | H16: =SUM(H15:H15) -> 0 | I16: =SUM(I15:I15) -> 0
C17: รวมโครงการ | E17: =COUNT(E14:E15) -> 0 | F17: =COUNT(F14:F15) -> 1 | G17: =COUNT(G14:G15) -> 0 | H17: =COUNT(H14:H15) -> 0 | I17: =COUNT(I14:I15) -> 0

Sheet ยท2.5 สคขข. เพิ่มเติม 2.66
A1: รายละเอียดโครงการพัฒนา
A2: แผนพัฒนาท้องถิ่น (พ.ศ. 2566-2570) เพิ่มเติม ครั้งที่ 2/2567
A3: องค์การบริหารส่วนตำบลในควน
B4: ก.ยุทธศาสร์ชาติ 20 ปี ยุทธศาสตร์ที่ 3 ด้านการพัฒนาและเสริมสร้างศักยภาพทรัพยากรมนุษย์
B5: ข.แผนพัฒนาเศรษฐกิจและสังคมแห่งชาติ ฉบับที่ 13 หมุดหมายที่ 12 ไทยมีกำลังคนสมรรถนะสูง มุ่งเรียนรู้อย่างต่อเนื่อง ตอบโจทย์การพัฒนาแห่งอนาคต จิสติกส์ที่สำคัญของภูมิภาค
B6: ค. Sustainable Development Goals : SDGs เป้าหมายที่ 3 สร้างหลักประกันว่าคนมีชีวิตที่มีสุขภาพดีและส่งเสริมความเป็นอยู่ที่ดีสำหรับทุกคนในทุกวัย
B7: ง. ยุทธศาสตร์จังหวัดตรัง ยุทธศาสตร์ที่ 3 การเสริมสร้างความมั่นคงทางสังคม พัฒนาคุณภาพชีวิตและการเรียนรู้อย่างมีคุณภาพ
B8: จ. ยุทธศาสตร์การพัฒนาของ อปท. ในเขตจังหวัดตรัง ยุทธศาสตร์ที่ 2 การพัฒนาด้านคุณภาพชีวิตและส่งเสริมการศึกษาเรียนรู้แบบองค์รวม
B9: ยุทธศาสตร์ที่ 2 การพัฒนาด้านคุณภาพชีวิต | K9: แบบ ผ02
B10: กลยุทธ์ 2.2 ส่งเสริมการสาธารณสุข สวัสดิการสังคม
B11: (4) แผนงานสังคมสงเคราะห์
A12: ที่ | B12: โครงการ | C12: วัตถุประสงค์ | D12: เป้าหมาย(ผลผลิตของโครงการ) | E12: งบประมาณและที่มา | J12: ตัวชี้วัด(KPI) | K12: ผลลัพธ์ที่คาดว่าจะได้รับ | L12: หน่วยงานรับผิดชอบหลัก
E13: 2566 | F13: 2567 | G13: 2568 | H13: 2569 | I13: 2570
E14: (บาท) | F14: (บาท) | G14: (บาท) | H14: (บาท) | I14: (บาท)
A15: 1 | B15: โครงการส่งเสริมการจ้างงานคนพิการเชิงสังคม | C15: - เพื่อพัฒนาคุณภาพชีวิตคนพิการตำบลในควน | D15: - จ้างงานคนพิการ จำนวน 2 คน ฯ | E15: - | F15: - | G15: 200000 | H15: 200000 | I15: 200000 | J15: คนพิการ จำนวน 2 คน | K15: คนพิการในพื้นที่มีงานทำ สามารถทำให้คุณภาพชีวิตดีขึ้น | L15: สำนักปลัด
B16: รวมงบประมาณ | E16: =SUM(E15:E15) -> 0 | F16: =SUM(F15:F15) -> 0 | G16: =SUM(G15:G15) -> 200000 | H16: =SUM(H15:H15) -> 200000 | I16: =SUM(I15:I15) -> 200000
C17: รวมโครงการ | E17: =COUNT(E15:E15) -> 0 | F17: =COUNT(F15:F15) -> 0 | G17: =COUNT(G15:G15) -> 1 | H17: =COUNT(H15:H15) -> 1 | I17: =COUNT(I15:I15) -> 1

Sheet ผ 01. 2
A2: บัญชีสรุปโครงการพัฒนา
A3: แผนพัฒนาท้องถิ่น (พ.ศ. 2566-2570) เพิ่มเติม ครั้งที่ 3/2567
A4: โครงการที่เกินศักยภาพขององค์กรปกครองส่วนท้องถิ่นที่ใช้สำหรับการประสานแผนพัฒนาท้องถิ่น
A5: องค์การบริหารส่วนตำบลในควน
A7: ยุทธศาสตร์ | B7: ปี 2566 | D7: ปี 2567 | F7: ปี 2568 | H7: ปี 2569 | J7: ปี 2570 | L7: รวม 5 ปี
B8: จำนวน | C8: งบประมาณ | D8: จำนวน | E8: งบประมาณ | F8: จำนวน | G8: งบประมาณ | H8: จำนวน | I8: งบประมาณ | J8: จำนวน | K8: งบประมาณ | L8: จำนวน | M8: งบประมาณ
B9: โครงการ | D9: โครงการ | F9: โครงการ | H9: โครงการ | J9: โครงการ | L9: โครงการ
A10: ยุทธศาสตร์ที่ 1 การพัฒนาด้านโครงสร้างพื้นฐาน
A11: กลยุทธ์ที่ 1 การพัฒนาระบบคมนาคมการ พัฒนาระบบไฟฟ้าสาธารณะ และการพัฒนาระบบประปา
A12: 1.1 แผนงานอุตสาหกรรมและการโยธา | B12: =+'ยท1)'!E22 -> 0 | C12: =+'ยท1)'!E21 -> 0 | D12: =+'ผ02.2ยท1'!F20 -> 0 | E12: ='ผ02.2ยท1'!F19 -> 0 | F12: ='ผ02.2ยท1'!G20 -> 0 | G12: ='ผ02.2ยท1'!G19 -> 0 | H12: ='ผ02.2ยท1'!H20 -> 3 | I12: ='ผ02.2ยท1'!H19 -> 19000000 | J12: =+'ยท1)'!I22 -> 0 | K12: ='ผ02.2ยท1'!I19 -> 0 | L12: =B12+D12+F12+H12+J12 -> 3 | M12: =C12+E12+G12+I12+K12 -> 19000000
A13: รวม | B13: =SUM(B12:B12) -> 0 | C13: =SUM(C12:C12) -> 0 | D13: =SUM(D12:D12) -> 0 | E13: =SUM(E12:E12) -> 0 | F13: =SUM(F12:F12) -> 0 | G13: =SUM(G12:G12) -> 0 | H13: =SUM(H12:H12) -> 3 | I13: =SUM(I12:I12) -> 19000000 | ... M13: =SUM(M12:M12) -> 19000000

Sheet ผ02.2ยท1
A1: รายละเอียดโครงการพัฒนา
A2: แผนพัฒนาท้องถิ่น (พ.ศ. 2566-2570) เพิ่มเติม ครั้งที่ 3/2567
A3: โครงการที่เกินศักยภาพขององค์กรปกครองส่วนท้องถิ่นที่ใช้สำหรับการประสานแผนพัฒนาท้องถิ่น
A4: องค์การบริหารส่วนตำบลในควน
B5: ก.ยุทธศาสร์ชาติ 20 ปี ยุทธศาสตร์ที่ 2 การเพิ่มความสามารถในการแข่งขัน
B6: ข.แผนพัฒนาเศรษฐกิจและสังคมแห่งชาติ ฉบับที่ 13 หมุดหมายที่ 5 ไทยเป็นประตูการค้าการลงทุนและยุทธศาสตร์ทางโลก จิสติกส์ที่สำคัญของภูมิภาค
B7: ค. Sustainable Development Goals : SDGs เป้าหมายที่ 9 สร้างโครงสร้างพื้นฐานที่มีความทนทาน ส่งเสริมการพัฒนาอุตสาหกรรมที่ครอบคลุมและยั่งยืน และส่งเสริมนวัตกรรม
B8: ง. ยุทธศาสตร์จังหวัดตรัง ยุทธศาสตร์ที่ 1 การพัฒนาด้านโครงสร้างพื้นฐานควบคู่การท่องเที่ยวเชิงอนุรักษ์
B9: จ. ยุทธศาสตร์การพัฒนาของ อปท. ในเขตจังหวัดตรัง ยุทธศาสตร์ที่ 1 การพัฒนาด้านโครงสร้างพื้นฐานควบคู่การท่องเที่ยวเชิงอนุรักษ์ | K9: แบบ ผ.02/2
B10: ยุทธศาสตร์ที่ 1 การพัฒนาด้านโครงสร้างพื้นฐาน | K10: .
A11: 5.2 แผนงานอุตสาหกรรมและการโยธา | B11: 1.1 กลยุทธ์ที่ 1 การพัฒนาระบบคมนาคม การพัฒนาระบบไฟฟ้าสาธารณะ และการพัฒนาระบบประปา
B12: (1) แผนงานอุตสาหกรรมและการโยธา
A13: ที่ | B13: โครงการ | C13: วัตถุประสงค์ | D13: เป้าหมาย(ผลผลิตของโครงการ) | E13: งบประมาณและที่มา | J13: ตัวชี้วัด(KPI) | K13: ผลลัพธ์ที่คาดว่าจะได้รับ | L13: หน่วยงานรับผิดชอบ
E14: 2566 | F14: 2567 | G14: 2568 | H14: 2569 | I14: 2570
E15: (บาท) | F15: (บาท) | G15: (บาท) | H15: (บาท) | I15: (บาท)
A16: 1 | B16: โครงการปรับปรุงผิวจราจรพาราแอสฟัลท์ติกคอนกรีตสายทุ่งหนองแห้ง - ในควน (ตง.ถ.61 - 001) หมู่ที่ 1,9,7 (ช่วงที่ 2 ) | C16: - เพื่อให้ประชาชนได้มีถนนใช้ในการคมนาคมได้สะดวกรวดเร็ว - เพื่อความปลอดภัยในการใช้รถใช้ถนนในการเดินทาง | D16: - ปรับปรุงผิวจราจรพาราแอสฟัลท์ติกคอนกรีต ขนาดกว้าง 5.00- 7.00 เมตร ระยะทาง 1,185.00 เมตร หนา 0.05 เมตรหรือมีพื้นที่ไม่น้อยกว่า 8,295 ตร.ม.ฯลฯ | E16: - | F16: - | G16: - | H16: 9000000 | I16: - | J16: ถนนมีมาตรฐานความปลอดภัยและประชาชนได้รับความสะดวกรวดเร็วในการเดินทาง ร้อยละ 70 ขึ้นไป | K16: - ทำให้ประชาชนมีถนนใช้ที่ได้มาตรฐานและการเดินทางสะดวกรวดเร็วปลอดภัยยิ่งขึ้น | L16: กองช่าง (เงินอุดหนุนเฉพาะกิจ)
A17: 2 | B17: โครงการปรับปรุงผิวจราจรถนนแอสฟัลท์ติกคอนกรีต สายห้วยด้วน - โคกมะพร้าวหมู่ที่ 2,9 | C17: - เพื่อให้ประชาชนได้มีถนนใช้ในการคมนาคมได้สะดวกรวดเร็ว - เพื่อความปลอดภัยในการใช้รถใช้ถนนในการเดินทาง | D17: - ปรับปรุงผิวจราจรถนนแอสฟัลท์ติกคอนกรีต ขนาดกว้าง 5.00 - 7.00 เมตร ระยะทาง 805.00เมตร หนา 0.05เมตร หรือมีพื้นที่ไม่น้อยกว่า 4,025 ตร.ม.ฯลฯ | E17: - | F17: - | G17: - | H17: 3500000 | I17: - | J17: ถนนมีมาตรฐานความปลอดภัยและประชาชนได้รับความสะดวกรวดเร็วในการเดินทาง ร้อยละ 70 ขึ้นไป | K17: - ทำให้ประชาชนมีถนนใช้ที่ได้มาตรฐานและการเดินทางสะดวกรวดเร็วปลอดภัยยิ่งขึ้น | L17: กองช่าง (เงินอุดหนุนเฉพาะกิจ)
A18: 3 | B18: โครงการก่อสร้างถนน แอสฟัลท์ติกคอนกรีตสาย ท่าคลองออก หมู่ที่ 3 | C18: - เพื่อให้ประชาชนได้มีถนนใช้ในการคมนาคมได้สะดวกรวดเร็ว - เพื่อความปลอดภัยในการใช้รถใช้ถนนในการเดินทาง | D18: - ก่อสร้างถนนแอสฟัลท์ติกคอนกรีตขนาดกว้าง 5.00 เมตร ระยะทาง 1,345.00 เมตร หนา 0.05 เมตร หรือมีพื้นที่ไม่น้อยกว่า 6,725 ตร.ม. ฯลฯ | E18: - | F18: - | G18: - | H18: 6500000 | I18: - | J18: ถนนมีมาตรฐานความปลอดภัยและประชาชนได้รับความสะดวกรวดเร็วในการเดินทาง ร้อยละ 70 ขึ้นไป | K18: - ทำให้ประชาชนมีถนนใช้ที่ได้มาตรฐานและการเดินทางสะดวกรวดเร็วปลอดภัยยิ่งขึ้น | L18: กองช่าง (เงินอุดหนุนเฉพาะกิจ)
B19: รวมงบประมาณ | E19: =SUM(E16:E18) -> 0 | F19: =SUM(F16:F18) -> 0 | G19: =SUM(G16:G18) -> 0 | H19: =SUM(H16:H18) -> 19000000 | I19: =SUM(I16:I18) -> 0
C20: รวมโครงการ | E20: =COUNT(#REF!) -> 0 | F20: =COUNT(F16:F18) -> 0 | G20: =COUNT(G16:G18) -> 0 | H20: =COUNT(H16:H18) -> 3 | I20: =COUNT(#REF!) -> 0

Sheet ยท2.7 เกษตรเพิ่ม 1.66
A1: รายละเอียดโครงการพัฒนา
A2: แผนพัฒนาท้องถิ่น (พ.ศ. 2566-2570) เพิ่มเติม ครั้งที่ 1/2566
A3: องค์การบริหารส่วนตำบลในควน
B4: ก.ยุทธศาสร์ชาติ 20 ปี ยุทธศาสตร์ที่ 3 ด้านการพัฒนาและเสริมสร้างศักยภาพทรัพยากรมนุษย์
B5: ข.แผนพัฒนาเศรษฐกิจและสังคมแห่งชาติ ฉบับที่ 13 หมุดหมายที่ 12 ไทยมีกำลังคนสมรรถนะสูง มุ่งเรียนรู้อย่างต่อเนื่อง ตอบโจทย์การพัฒนาแห่งอนาคต จิสติกส์ที่สำคัญของภูมิภาค
B6: ค. Sustainable Development Goals : SDGs เป้าหมายที่ 3 สร้างหลักประกันว่าคนมีชีวิตที่มีสุขภาพดีและส่งเสริมความเป็นอยู่ที่ดีสำหรับทุกคนในทุกวัย
B7: ง. ยุทธศาสตร์จังหวัดตรัง ยุทธศาสตร์ที่ 3 การเสริมสร้างความมั่นคงทางสังคม พัฒนาคุณภาพชีวิตและการเรียนรู้อย่างมีคุณภาพ
B8: จ. ยุทธศาสตร์การพัฒนาของ อปท. ในเขตจังหวัดตรัง ยุทธศาสตร์ที่ 2 การพัฒนาด้านคุณภาพชีวิตและส่งเสริมการศึกษาเรียนรู้แบบองค์รวม
B9: ยุทธศาสตร์ที่ 2 การพัฒนาด้านคุณภาพชีวิต | K9: แบบ ผ02
B10: กลยุทธ์ 2.3 ส่งเสริมคุณภาพชีวิตและการแก้ไขปัญหาสังคม
B11: (7) แผนงานเกษตร
A12: ที่ | B12: โครงการ | C12: วัตถุประสงค์ | D12: เป้าหมาย(ผลผลิตของโครงการ) | E12: งบประมาณและที่มา | J12: ตัวชี้วัด(KPI) | K12: ผลลัพธ์ที่คาดว่าจะได้รับ | L12: หน่วยงานรับผิดชอบหลัก
E13: 2566 | F13: 2567 | G13: 2568 | H13: 2569 | I13: 2570
E14: (บาท) | F14: (บาท) | G14: (บาท) | H14: (บาท) | I14: (บาท)
A15: 1 | B15: โครงการน้อมนำแนวพระราชดำริของสมเด็จพระกนิษฐาธิราชเจ้า กรมสมเด็จพระเทพรัตนราชสุดาฯสยามบรมราชกุมารีสู่ปฎิบัติการปลูกผักสวนครัว เพื่อความมั่นคงทางอาหาร | C15: - เพื่อสร้างพลังความต่อเนื่องในการสร้างความมั่นคงทางอาหารอย่างยั่งยืน - เพื่อลดรายจ่าย สร้างรายได้ระยะสั้น ทั้งในระดับครัวเรือนและระดับกลุ่มอาชีพ | D15: - แกนนำแต่ละหมู่บ้าน - ทุกครัวเรือนในพื้นที่ตำบลในควน | E15: - | F15: 30000 | G15: 30000 | H15: 30000 | I15: 30000 | J15: จำนวนผู้เข้าร่วมโครงการ | K15: - สร้างพลังความต่อเนื่องในการสร้างความมั่นคงทางอาหารอย่างยั่งยืน - ลดรายจ่าย สร้างรายได้ระยะสั้น ทั้งในระดับครัวเรือนและระดับกลุ่มอาชีพ | L15: สำนักปลัด
A16: 2 | B16: โครงการส่งเสริมอาชีพกลุ่มปลูกผัก หมู่ที่ 6 | C16: - เพื่อส่งเสริมให้ประชาชนหันมาปลูกผักกินเอง และสร้างอาชีพเสริมเป็นรายได้ให้กับครอบครัว | D16: - กลุ่มปลูกผัก ม.6 จำนวน 20 ครัวเรือน | E16: - | F16: 20000 | G16: 20000 | H16: 20000 | I16: 20000 | J16: จำนวนผู้เข้าร่วมโครงการ | K16: - ประชาชนหันมาปลูกผักกินเอง และสร้างอาชีพเสริมเป็นรายได้ให้กับครอบครัว | L16: สำนักปลัด
A17: 3 | B17: โครงการส่งเสริมปลูกต้นไม้สองข้างทางและที่สาธารณะประโยชน์ | C17: - เพื่อปลูกจิตสำนึกในการอนุรักษ์สิ่งแวดล้อมและทรัพยากรธรรมชาติของชุมชน | D17: - สองข้างทางและที่สาธารณประโยชน์ | E17: - | F17: 20000 | G17: 20000 | H17: 20000 | I17: 20000 | J17: จำนวนผู้เข้าร่วมโครงการ | K17: - ประชาชนมีจิตสำนึกในการอนุรักษ์สิ่งแวดล้อมและทรัพยากรธรรมชาติ | L17: สำนักปลัด
B18: รวมงบประมาณ | E18: =SUM(E15:E17) -> 0 | F18: =SUM(F15:F17) -> 70000 | G18: =SUM(G15:G17) -> 70000 | H18: =SUM(H15:H17) -> 70000 | I18: =SUM(I15:I17) -> 70000
C19: รวมโครงการ | E19: =COUNT(#REF!) -> 0 | F19: =COUNT(F15:F17) -> 3 | G19: =COUNT(G15:G17) -> 3 | H19: =COUNT(H15:H17) -> 3 | I19: =COUNT(I15:I17) -> 3

Sheet ยุทธ 7
A1: รายละเอียดโครงการพัฒนา
A2: แผนพัฒนาท้องถิ่น (พ.ศ. 2566-2570) แก้ไข ครั้งที่ 1/2566
A3: องค์การบริหารส่วนตำบลในควน
B4: ก.ยุทธศาสร์ชาติ 20 ปี ยุทธศาสตร์ที่ 6 ด้านการปรับสมดุลและพัฒนาระบบการบริหารจัดการภาครัฐ
B5: ข.แผนพัฒนาเศรษฐกิจและสังคมแห่งชาติ ฉบับที่ 13 หมุดหมายที่ 13 ไทยมีภาครัฐที่ทันสมัยมีประสิทธิภาพและตอบโจทย์ประชาชน จิสติกส์ที่สำคัญของภูมิภาค
B6: ค.Sustainable Development Goals : SDGs เป้าหมายที่ 16 ส่งเสริมสังคมที่สงบสุขและครอบคลุมเพื่อการพัฒนาที่ยั่งยืน ให้ทุกคนเข้าถึงความยุติธรรม และสร้างสถาบันที่มีประสิทธิภาพ รับผิดชอบ และครอบคลุมในทุกระดับ
B7: จ. ยุทธศาสตร์จังหวัดที่ 3 เสริมสร้างความมั่นคงทางสังคม พัฒนาคุณภาพชีวิตและการศึกษาเรียนรู้อย่าง มีคุณภาพ
B8: ง. ยุทธศาสตร์การพัฒนาของ อปท.ในเขตจังหวัดที่ 7 การพัฒนาด้านการเมือง การบริหารและการพัฒนาบุคลากรของท้องถิ่น
B9: ยุทธศาสตร์ที่ 7 การพัฒนาด้านการบริหารจัดการ
B10: กลยุทธ์ที่ 7.1 การวางแผนการพัฒนาองค์กรและการบริหารจัดการที่ดี
B11: (2) แผนงานอุตสาหกรรมและการโยธา
A12: ที่ | B12: โครงการ | C12: วัตถุประสงค์ | D12: เป้าหมาย(ผลผลิตของโครงการ) | E12: งบประมาณและที่มา | J12: ตัวชี้วัด(KPI) | K12: ผลลัพธ์ที่คาดว่าจะได้รับ | L12: หน่วยงานรับผิดชอบหลัก
E13: 2566 | F13: 2567 | G13: 2568 | H13: 2569 | I13: 2570
E14: (บาท) | F14: (บาท) | G14: (บาท) | H14: (บาท) | I14: (บาท)
A15: 1 | B15: โครงการก่อสร้างอาคารที่จอดรถ | C15: เพื่อให้มีสถานที่จอดรถที่เพียงพอและเป็นระเบียบ | D15: ขนาดกว้าง 7.00 เมตร ยาว 12.00 เมตร ฯลฯ | E15: - | F15: 350000 | G15: - | H15: - | I15: - | J15: มีสถานที่จอดรถเพิ่มขึ้น | K15: - มีสถานที่จอดรถที่เพียงพอและเป็นระเบียบเรียบร้อย | L15: สำนักปลัด
A16: 2 | B16: โครงการปรับภูมิทัศน์สระน้ำหนองยนต์ที่ทำการองค์การบริหารส่วนตำบลในควน | C16: - เพื่อปรับภูมิทัศน์สระน้ำหนองยนต์ที่ทำการองค์การบริหารส่วนตำบลในควน | D16: - โดยทำการวางท่อระบายน้ำขนาด Ø 1 เมตร จำนวน 420 เมตร พร้อมบ่อพักน้ำ และถมดินปรับพื้นที่ ขนาดกว้าง 3 - 4 เมตร ฯลฯ | E16: - | F16: 495000 | G16: - | H16: - | I16: - | J16: สภาพภูมิทัศน์บริเวณสระน้ำหนองยนต์ที่ทำการองค์การบริหารส่วนตำบลในควนที่ขึ้น | K16: สภาพภูมิทัศน์ที่ทำการ อบต.ในควน มีความสะอาด สวยงาม และน่ามอง | L16: สำนักปลัด
A17: 3 | B17: โครงการก่อสร้างประตูรั้วฝั่งซ้ายที่ทำการองค์การบริหารส่วนตำบลในควน | C17: - เพื่อความปลอดภัยในที่ราชการ | D17: - ก่อสร้างประตูรั้วฝั้งซ้าย ขนาดกว้าง 6 เมตร สูง 1.2 -1.5 เมตร ฯลฯ | E17: - | F17: 120000 | G17: - | H17: - | I17: - | J17: ที่ทำการองค์การบริหารส่วนตำบลในควนมีความปลอดภัย | K17: - มีความเป็นระเบียบเรียบร้อยในการมาติดต่อราชการ | L17: สำนักปลัด
A18: 4 | B18: โครงการอบรมคุณธรรม จริยธรรม บุคลากรในสังกัดองค์การบริหารส่วนตำบลในควน | C18: - เพื่อเสริมสร้างความรู้ ความเข้าใจในหลักคุณธรรม จริยธรรม ให้กับ คณะผู้บริหาร สมาชิกสภาฯ พนักงานส่วนตำบล พนักงานครู ลูกจ้างประจำ และพนักงานจ้าง องค์การบริหารส่วนตำบลในควน | D18: - คณะผู้บริหาร สมาชิกสภาฯ พนักงานส่วนตำบล พนักงานครู ลูกจ้างประจำ และพนักงานจ้าง องค์การบริหารส่วนตำบลในควน | E18: - | F18: 50000 | G18: 50000 | H18: 50000 | I18: 50000 | J18: บุคลากรมีความรู้ ความเข้าใจ ในบริบทคุณธรรม จริยธรรม | K18: - เพิ่มความรู้ ความเข้าใจในหลักคุณธรรม จริยธรรม ให้กับ คณะผู้บริหาร สมาชิกสภาฯ พนักงานส่วนตำบล พนักงานครู ลูกจ้างประจำ | L18: สำนักปลัด
B19: รวมงบประมาณ | E19: =SUM(E15:E15) -> 0 | F19: =SUM(F15:F18) -> 1015000 | G19: =SUM(G15:G15) -> 0 | H19: =SUM(H15:H15) -> 0 | I19: =SUM(I15:I15) -> 0
C20: รวมโครงการ | E20: =COUNT(#REF!) -> 0 | F20: =COUNT(F15:F18) -> 4 | G20: =COUNT(#REF!) -> 0 | H20: =COUNT(#REF!) -> 0 | I20: =COUNT(#REF!) -> 0

Sheet ยท2.2ศึกษา)
A1: รายละเอียดโครงการพัฒนา
A2: แผนพัฒนาท้องถิ่น (พ.ศ. 2566-2570) เพิ่มเติม ครั้งที่ 2/2567
A3: โครงการที่เกินศักยภาพขององค์กรปกครองส่วนท้องถิ่นที่ใช้สำหรับการประสานแผนพัฒนาท้องถิ่น
A4: องค์การบริหารส่วนตำบลในควน
B5: ก.ยุทธศาสร์ชาติ 20 ปี ยุทธศาสตร์ที่ 3 ด้านการพัฒนาและเสริมสร้างศักยภาพทรัพยากรมนุษย์
B6: ข.แผนพัฒนาเศรษฐกิจและสังคมแห่งชาติ ฉบับที่ 13 หมุดหมายที่ 12 ไทยมีกำลังคนสมรรถนะสูง มุ่งเรียนรู้อย่างต่อเนื่อง ตอบโจทย์การพัฒนาแห่งอนาคต
B7: ค. Sustainable Development Goals : SDGs เป้าหมายที่ 3 สร้างหลักประกันว่าคนมีชีวิตที่มีสุขภาพดีและส่งเสริมความเป็นอยู่ที่ดีสำหรับทุกคนในทุกวัย
B8: ง. ยุทธศาสตร์จังหวัดที่ 3 การเสริมสร้างความมั่นคงทางสังคม พัฒนาคุณภาพชีวิตและการเรียนรู้อย่างมีคุณภาพ
B9: จ. ยุทธศาสตร์การพัฒนาของ อปท.ในเขตจังหวัดที่ 2 การพัฒนาด้านคุณภาพชีวิตและส่งเสริมการศึกษาเรียนรู้แบบองค์รวม
B10: ยุทธศาสตร์ที่ 2 การพัฒนาด้านคุณภาพชีวิต | K10: แบบ ผ 02/2
B11: กลยุทธ์ที่ 2.1 ส่งเสริมการศึกษาและนันทนาการ
B12: (1) แผนงานการศึกษา
A13: ที่ | B13: โครงการ | C13: วัตถุประสงค์ | D13: เป้าหมาย(ผลผลิตของโครงการ) | E13: งบประมาณและที่มา | J13: ตัวชี้วัด(KPI) | K13: ผลลัพธ์ที่คาดว่าจะได้รับ | L13: หน่วยงานรับผิดชอบ
E14: 2566 | F14: 2567 | G14: 2568 | H14: 2569 | I14: 2570
E15: (บาท) | F15: (บาท) | G15: (บาท) | H15: (บาท) | I15: (บาท)
A16: 1 | B16: โครงการก่อสร้างสนามจักรยานขาไถ Balance Bike | C16: - สนามจักรยานขาไถ 1 สนาม ฯลฯ | D16: - ก่อสร้างสนามจักรยานขาไถ Balance Bike ขนาด 40*40 ม.หรือตามแบบที่กำหนด | E16: - | F16: - | G16: 1800000 | H16: 1800000 | I16: 1800000 | J16: สนามจักรยานขาไถ | K16: - สนามจักรยานขาไถและนักเรียนมีพะฒนาการเหมาะสมตามวัย | L16: กองการศึกษาฯ (เงินอุดหนุนเฉพาะกิจ)
B17: รวมงบประมาณ | E17: =SUM(#REF!) -> #REF! | F17: =SUM(#REF!) -> #REF! | G17: =SUM(G16) -> 1800000 | H17: =SUM(H16) -> 1800000 | I17: =SUM(I16) -> 1800000
C18: รวมโครงการ | E18: =COUNT(#REF!) -> 0 | F18: =COUNT(#REF!) -> 0 | G18: =COUNT(G16) -> 1 | H18: =COUNT(H16) -> 1 | I18: =COUNT(I16) -> 1

Sheet ครุภัณฑ์
A2: บัญชีครุภัณฑ์
A3: แผนพัฒนาท้องถิ่น (พ.ศ. 2566-2570) เพิ่มเติม ครั้งที่ 3/2567
A4: องค์การบริหารส่วนตำบลในควน อำเภอย่านตาขาว จังหวัดตรัง
A6: ที่ | B6: แผนงาน | C6: หมวด | D6: ประเภท | E6: เป้าหมาย | F6: งบประมาณ | K6: หน่วยงานรับผิดชอบ
E7: (ผลผลิตของครุภัณฑ์ ) | F7: 2566 | G7: 2567 | H7: 2568 | I7: 2569 | J7: 2570
F8: (บาท) | G8: (บาท) | H8: (บาท) | I8: (บาท) | J8: (บาท)
A10: 1 | B10: แผนงานสังคมสงเคราะห์ | C10: ครุภัณฑ์ | D10: ครุภัณฑ์โฆษณาและเผยแพร่ | E10: - ค่าจัดซื้อโทรทัศน์ แอล อี ดี (LED T) แบบ Smart TV ระดับความละเอียดจอภาพ 3840x2160 พิกเซล ขนาด 70 นิ้ว จำนวน 1 เครื่อง | F10: - | G10: - | H10: 32600 | I10: - | J10: - | K10: สำนักปลัด
A11: 17
A12: 18 | B12: แผนงานอุตสาหกรรมและการโยธา | C12: รวมงบประมาณ | F12: =SUM(#REF!) -> #REF! | G12: =SUM(G11:G11) -> 0 | H12: - | I12: - | J12: -
A13: 19 | B13: แผนงานอุตสาหกรรมและการโยธา | D13: รวมโครงการ | F13: =COUNT(#REF!) -> 0 | G13: =COUNT(G11:G11) -> 0 | H13: - | I13: - | J13: -

Sheet Sheet1
